BEGIN:VCALENDAR
VERSION:2.0
CALSCALE:GREGORIAN
PRODID:adamgibbons/ics
METHOD:PUBLISH
X-PUBLISHED-TTL:PT1H
BEGIN:VEVENT
UID:7821@eif.convoca.la
SUMMARY:49 anni di Radio Onda Rossa
DTSTAMP:20260421T143316Z
DTSTART:20260524T110000Z
DTEND:20260524T210000Z
DESCRIPTION:Promemoria: il 24 Maggio Radio Ondarossa fa 40 anni\, li festgg
	iamo prima il 22\nMaggio alla SNIA [https://roma.convoca.la/event/49-anni-
	di-radio-ondarossa]\, poi\ndomenica 24 Maggio in via dei Volsci\, sotto la
	 radio.
URL:https://eif.convoca.la/event/49-anni-di-radio-onda-rossa
GEO:41.8969124;12.5133239
LOCATION:Radio Ondarossa - via dei volsci\, 56
STATUS:CONFIRMED
CATEGORIES:Radio Onda Rossa
X-ALT-DESC;FMTTYPE=text/html:<p>Promemoria: il 24 Maggio Radio Ondarossa fa
	 40 anni, li festggiamo prima il <a href="https://roma.convoca.la/event/49
	-anni-di-radio-ondarossa" target="_blank">22 Maggio alla SNIA</a>, poi dom
	enica 24 Maggio in via dei Volsci, sotto la radio.</p>
BEGIN:VALARM
ACTION:DISPLAY
DESCRIPTION:49 anni di Radio Onda Rossa
TRIGGER:-PT1H
END:VALARM
END:VEVENT
END:VCALENDAR
