BEGIN:VCALENDAR
VERSION:2.0
CALSCALE:GREGORIAN
PRODID:adamgibbons/ics
METHOD:PUBLISH
X-PUBLISHED-TTL:PT1H
BEGIN:VEVENT
UID:7820@eif.convoca.la
SUMMARY:49 anni di Radio Ondarossa
DTSTAMP:20260421T142649Z
DTSTART:20260522T160000Z
DESCRIPTION:Promemoria: il 24 Maggio Radio Ondarossa fa 40 anni\, li festgg
	iamo prima il 22\nMaggio alla SNIA\, poi domenica 24 Maggio in via dei Vol
	sci\n[https://roma.convoca.la/event/49-anni-di-radio-onda-rossa]\, sotto l
	a radio.
URL:https://eif.convoca.la/event/49-anni-di-radio-ondarossa
GEO:41.8929655;12.5356901
LOCATION:CSOA Ex-Snia - Via Prenestina 173
STATUS:CONFIRMED
CATEGORIES:Radio Onda Rossa
X-ALT-DESC;FMTTYPE=text/html:<p>Promemoria: il 24 Maggio Radio Ondarossa fa
	 40 anni, li festggiamo prima il 22 Maggio alla SNIA, poi domenica <a href
	="https://roma.convoca.la/event/49-anni-di-radio-onda-rossa" target="_blan
	k">24 Maggio in via dei Volsci</a>, sotto la radio.</p>
BEGIN:VALARM
ACTION:DISPLAY
DESCRIPTION:49 anni di Radio Ondarossa
TRIGGER:-PT1H
END:VALARM
END:VEVENT
END:VCALENDAR
