BEGIN:VCALENDAR
VERSION:2.0
CALSCALE:GREGORIAN
PRODID:adamgibbons/ics
METHOD:PUBLISH
X-PUBLISHED-TTL:PT1H
BEGIN:VEVENT
UID:8882@eif.convoca.la
SUMMARY:🦋ACTIVITATS POLILLA MAIG 🦋
DTSTAMP:20260420T202238Z
DTSTART:20260425T090000Z
DTEND:20260425T120000Z
DESCRIPTION:PROSA DE FOC (LLETRES A L'HORT)\n\nHi serem amb la distri!\n\n📍
	Hort okupat Ca la trava (Travessera de gràcia\, 154)\n\n🗓️ Dissabte 25 d'ab
	ril\n\n🕛 12h\n\n\n\n\n\nTATTOO CIRCUS ZARAGOZA\n\nEl 1\, 2\, 3 de maig ani
	rem al Tattoo circus Zaragoza amb la distri. Hi haurà\ntatus\, xerrades\, 
	concerts\, menjar... Vine a lluitar contre les presons. A terra\nels murs!
	\n\n📍CSO Kike Mur (ZGZ)\n\n🗓️ Divendres 1\, dissabte 2 i diumenge 3\n\n\n\n
	\n\nOBERTURA DEL KIOSK\n\nEl dissabte 09 de maig obrirem el kiosk. Hi haur
	á fanzines\, jocs\, infus i punt\nde carteig!\n\n⚠️Espai accesible i lliure
	 de drogues.\n\n📍 Plaça Revolució (Kiosk Okupat)\n\n🗓️ Dissabte 09 de maig\
	n\n🕛 11h - 14h\n\n\n\n\n\nII JORNADES ANTIFEIXISTES\n\nEl dia 16 de maig h
	i serem amb la distri a les II Jornades antifeixistes a Can\nBattlló. Hi h
	aurà xerrades\, distris\, menjar...\n\n📍 Can Batlló\n\n🗓️ Dissabte 16 de ma
	ig\n\n\n\n\n\nTATTOO CIRCUS MADRIP\n\nEl 29\, 30\, 31 de maig anirem al Ta
	ttoo circus Madrip amb la distri. Hi haurà\ntatus\, xerrades\, concerts\, 
	menjar... Vine a lluitar contre les presons. A terra\nels murs!\n\n📍CSO La
	 Enre (MAD)\n\n🗓️ Divendres 29\, dissabte 30 i diumenge 31\n\n\n\n🦋 Vine a 
	fer caliu polillero 🦋
URL:https://eif.convoca.la/event/activitats-polilla-maig
GEO:41.40266345;2.158146050000001
LOCATION:La Polilla - Plaça Revolució\, Barcelona
STATUS:CONFIRMED
CATEGORIES:
X-ALT-DESC;FMTTYPE=text/html:<p>PROSA DE FOC (LLETRES A L'HORT) </p><p>Hi s
	erem amb la distri!</p><p>📍Hort okupat Ca la trava (Travessera de gràcia, 
	154)</p><p>🗓️ Dissabte 25 d'abril</p><p>🕛 12h</p><p></p><p></p><p>TATTOO CI
	RCUS ZARAGOZA</p><p>El 1, 2, 3 de maig anirem al Tattoo circus Zaragoza am
	b la distri. Hi haurà tatus, xerrades, concerts, menjar... Vine a lluitar 
	contre les presons. A terra els murs!</p><p>📍CSO Kike Mur (ZGZ)</p><p>🗓️ Di
	vendres 1, dissabte 2 i diumenge 3</p><p></p><p></p><p>OBERTURA DEL KIOSK<
	/p><p>El dissabte 09 de maig obrirem el kiosk. Hi haurá fanzines, jocs, in
	fus i punt de carteig!</p><p>⚠️Espai accesible i lliure de drogues.</p><p>📍
	 Plaça Revolució (Kiosk Okupat) </p><p>🗓️ Dissabte 09 de maig</p><p>🕛 11h -
	 14h</p><p></p><p></p><p>II JORNADES ANTIFEIXISTES</p><p>El dia 16 de maig
	 hi serem amb la distri a les II Jornades antifeixistes a Can Battlló. Hi 
	haurà xerrades, distris, menjar... </p><p>📍 Can Batlló</p><p>🗓️ Dissabte 16
	 de maig</p><p></p><p></p><p>TATTOO CIRCUS MADRIP</p><p>El 29, 30, 31 de m
	aig anirem al Tattoo circus Madrip amb la distri. Hi haurà tatus, xerrades
	, concerts, menjar... Vine a lluitar contre les presons. A terra els murs!
	</p><p>📍CSO La Enre (MAD)</p><p>🗓️ Divendres 29, dissabte 30 i diumenge 31<
	/p><p></p><p>🦋 Vine a fer caliu polillero 🦋</p>
BEGIN:VALARM
ACTION:DISPLAY
DESCRIPTION:🦋ACTIVITATS POLILLA MAIG 🦋
TRIGGER:-PT1H
END:VALARM
END:VEVENT
END:VCALENDAR
