BEGIN:VCALENDAR
VERSION:2.0
CALSCALE:GREGORIAN
PRODID:adamgibbons/ics
METHOD:PUBLISH
X-PUBLISHED-TTL:PT1H
BEGIN:VEVENT
UID:8950@eif.convoca.la
SUMMARY:Cineforum Garbatella "Le chat"
DTSTAMP:20260423T114932Z
DTSTART:20260422T170000Z
DTEND:20260422T220000Z
DESCRIPTION:Simone Signoret\, Jean Gabin: un'attrice e un attore che non ha
	nno bisogno di\npresentazioni. Semplicemente il massimo tra gli interpreti
	 del cinema classico\nfrancese. Se poi il film è tratto da un romanzo (in 
	questo caso\, uno dei rari\nnon gialli) di Simenon... È la storia del rapp
	orto tormentato\, di amore-odio\,\ntra una coppia di anziani coniugi in un
	a periferia parigina degli anni settanta.\nLui sembra amare di più un gatt
	o randagio (le chat del titolo) che la moglie\,\nlei non glielo perdona\, 
	poi come spesso succede scoprono che non possono fare a\nmeno l'uno dell'a
	ltro\, quando è troppo tardi... Gabin\, dopo una lunga carriera\ndi person
	aggi simenoniani\, tra cui vari Maigret\, è qui alla sua ultima\,\nmemorab
	ile prova in un film tratto dai romanzi del grande scrittore\; Simone\nSig
	noret è l'unica che può tenergli testa\, e infatti entrambi verranno premi
	ati\nal festival di Berlino. La regia sicura di Pierre Granier - Deferre s
	i limita\,\nper così dire\, ad assecondare efficacemente le performance at
	toriali dei due\nmostri sacri. Dopo la proiezione si potrà dibattere\, ber
	e\, fare\, mangiare\,\ncantare\, suonare... Appuntamento mercoledì 22 apri
	le alle ore 19:00 in Via\nVettor Fausto 3\, Garbatella (entrare dal porton
	e e scendere le scale) Gruppo\nAnarchico Bakunin\, F.A.I. Roma e Lazio gru
	ppobakunin@federazioneanarchica.org
URL:https://eif.convoca.la/event/cineforum-garbatella-le-chat
LOCATION:Spazio Anarchico Vettor Fausto - Via Vettor Fausto 3
STATUS:CONFIRMED
CATEGORIES:
X-ALT-DESC;FMTTYPE=text/html:<code>Simone Signoret, Jean Gabin: un'attrice 
	e un attore che non hanno<br>bisogno di presentazioni. Semplicemente il ma
	ssimo tra gli interpreti<br>del cinema classico francese. Se poi il film è
	 tratto da un romanzo (in<br>questo caso, uno dei rari non gialli) di Sime
	non... È la storia del<br>rapporto tormentato, di amore-odio, tra una copp
	ia di anziani coniugi in<br>una periferia parigina degli anni settanta. Lu
	i sembra amare di più un<br>gatto randagio (le chat del titolo) che la mog
	lie, lei non glielo<br>perdona, poi come spesso succede scoprono che non p
	ossono fare a meno<br>l'uno dell'altro, quando è troppo tardi... Gabin, do
	po una lunga<br>carriera di personaggi simenoniani, tra cui vari Maigret, 
	è qui alla<br>sua ultima, memorabile prova in un film tratto dai romanzi d
	el grande<br>scrittore; Simone Signoret è l'unica che può tenergli testa, 
	e infatti<br>entrambi verranno premiati al festival di Berlino. La regia s
	icura di<br>Pierre Granier - Deferre si limita, per così dire, ad assecond
	are<br>efficacemente le performance attoriali dei due mostri sacri.<br><br
	>Dopo la proiezione si potrà dibattere, bere, fare, mangiare, cantare,<br>
	suonare...<br><br>Appuntamento mercoledì 22 aprile  alle ore 19:00 in Via 
	Vettor Fausto 3,<br>Garbatella (entrare dal portone e scendere le scale)<b
	r>Gruppo Anarchico Bakunin, F.A.I. Roma e Lazio<br><br>gruppobakunin@feder
	azioneanarchica.org</code>
BEGIN:VALARM
ACTION:DISPLAY
DESCRIPTION:Cineforum Garbatella "Le chat"
TRIGGER:-PT1H
END:VALARM
END:VEVENT
END:VCALENDAR
