BEGIN:VCALENDAR
VERSION:2.0
CALSCALE:GREGORIAN
PRODID:adamgibbons/ics
METHOD:PUBLISH
X-PUBLISHED-TTL:PT1H
BEGIN:VEVENT
UID:8893@eif.convoca.la
SUMMARY:Compleanno del Corto Circuito.... e so' TRENTASEI!!!!!
DTSTAMP:20260420T202535Z
DTSTART:20260421T170000Z
DTEND:20260421T215500Z
DESCRIPTION:Vieni a festeggiare con noi trentasei anni di resistenza: dalle
	 h. 19:00\,\naperitivo e cena resistente\, a seguire musica bombe a mano e
	 tricche tracche...\nhasta la victoria siempre!
URL:https://eif.convoca.la/event/compleanno-del-corto-circuito-e-so-trentas
	ei
LOCATION:CSOA Corto Circuito - via Filippo Serafini\, 57
STATUS:CONFIRMED
CATEGORIES:antifascismo
X-ALT-DESC;FMTTYPE=text/html:<p>Vieni a festeggiare con noi trentasei anni 
	di resistenza: dalle h. 19:00,  aperitivo e cena resistente, a seguire mus
	ica bombe a mano e tricche tracche... hasta la victoria siempre!</p>
BEGIN:VALARM
ACTION:DISPLAY
DESCRIPTION:Compleanno del Corto Circuito.... e so' TRENTASEI!!!!!
TRIGGER:-PT1H
END:VALARM
END:VEVENT
END:VCALENDAR
