BEGIN:VCALENDAR
VERSION:2.0
CALSCALE:GREGORIAN
PRODID:adamgibbons/ics
METHOD:PUBLISH
X-PUBLISHED-TTL:PT1H
BEGIN:VEVENT
UID:8953@eif.convoca.la
SUMMARY:Concerto Benefit Spazio anarchico 19 Luglio al Csoa Spartaco
DTSTAMP:20260423T115340Z
DTSTART:20260508T190000Z
DTEND:20260509T100000Z
DESCRIPTION:Venerdì 8 maggio Concerto Benefit Lo Spazio Anarchico 19 Luglio
	 non si chiude!\nal CSOA Spartaco\n\nVenerdì 8 maggio Concerto Benefit Lo 
	Spazio Anarchico 19 Luglio non si chiude!\nal CSOA Spartaco in via Selinun
	te 57 (metro numidio quadrato).\n\nProgramma:\n\nore 21:00 Buffet veg\, st
	and con gadgets\, editoria libertaria\n\nore 22:00 Concerto Benefit con Bo
	icotta Cesare (death metal)\, Lacerhate (hc\nmetal)\, Tractors (agrimetal)
	\n\nIl Gruppo Anarchico C. Cafiero FAI Roma fondato a garbatella nel 1945 
	ha avuto\nla necessità di ampliarsi nel 2011 con lo Spazio Anarchico 19 Lu
	glio un locale\ndi un centinaio di metri quadri lasciato nel degrado per c
	irca 25 anni.\n\nAbbiamo organizzato convegni\, conferenze\, presentazioni
	 di libri\, proiezioni\,\ndiffuso editoria anarchica\, ospitato compagnie 
	teatrali e gruppi musicali\, i\nprogetti di solidarietà locali e internazi
	onali\, i laboratori di pedagogia\nlibertaria\, le assemblee di condominio
	\, i laboratori artistici\, le mostre\nd’arte\, i mercatini del dono e del
	 baratto\, gli sportelli solidali e sindacali\,\nabbiamo ospitato gruppi\,
	 artisti\, poeti  in connessione con le esperienze\nculturali e politiche 
	autogestite ed autorganizzate nelle lotte del movimento\nantiautoritario i
	nternazionale.\n\nGli eventi culturali sono autorganizzati a sottoscrizion
	e libera e operati tutti\na titolo gratuito. A titolo gratuito e in econom
	ia sono stati messi a\ndisposizione la manodopera e i materiali per la sis
	temazione e la manutenzione\ndecennale del locale.\n\nIn questo locale abb
	iamo riattivato il progetto di archivio oggi dedicato a\nTommaso Aversa e 
	di biblioteca popolare in omaggio a Fabio Iacopucci\, un luogo\ndi ricerca
	 aperto\, frequentato anche da studiosi e laureandi. Oltre a conservare\nl
	ibri e documenti appartenenti o donate al Gruppo Cafiero\, lo Spazio Anarc
	hico\n19 Luglio contiene fondi appartenenti anche a collezioni private di 
	più recente\ndatazione.\n\nE’ stato avviato un percorso amministrativo e l
	egale che ci sta richiedendo un\nimpegno economico straordinario pertanto 
	abbiamo aperto la campagna “Lo Spazio\nAnarchico 19 Luglio non si chiude” 
	e lanciato l’appello di sottoscrizione libera\ne consapevole a tutte le re
	altà e individualità solidali perché si attivino e ci\nsostengano.\n\nGraz
	ie al CSOA Spartaco per l’ospitalità e per chi non potrà esserci potrà\nco
	munque partecipare alla raccolta fondi sottoscrivendo all’ Associazione\nc
	ulturale 19 Luglio iban IT63T0306909606100000403028\n\nPer info scrivere a
	 cafierofairoma@inventati.org\n\nwww.cafierofairoma.wordpress.com [http://
	www.cafierofairoma.wordpress.com]
URL:https://eif.convoca.la/event/concerto-benefit-spazio-anarchico-19-lugli
	o-al-csoa-spartaco
GEO:41.8568097;12.5501129
LOCATION:CSOA Spartaco - Via Selinunte\, 57\, 00174 Roma RM
STATUS:CONFIRMED
CATEGORIES:territori,musica,concerti
X-ALT-DESC;FMTTYPE=text/html:<p><strong>Venerdì 8 maggio Concerto Benefit L
	o Spazio Anarchico 19 Luglio non si chiude! al CSOA Spartaco</strong></p><
	p>Venerdì 8 maggio Concerto Benefit Lo Spazio Anarchico 19 Luglio non si c
	hiude! al CSOA Spartaco in via Selinunte 57 (metro numidio quadrato).</p><
	p>Programma:</p><p>ore 21:00 Buffet veg, stand con gadgets, editoria liber
	taria</p><p>ore 22:00 Concerto Benefit con Boicotta Cesare (death metal), 
	Lacerhate (hc metal), Tractors (agrimetal)</p><p>Il Gruppo Anarchico C. Ca
	fiero FAI Roma fondato a garbatella nel 1945 ha avuto la necessità di ampl
	iarsi nel 2011 con lo Spazio Anarchico 19 Luglio un locale di un centinaio
	 di metri quadri lasciato nel degrado per circa 25 anni.</p><p>Abbiamo org
	anizzato convegni, conferenze, presentazioni di libri, proiezioni, diffuso
	 editoria anarchica, ospitato compagnie teatrali e gruppi musicali, i prog
	etti di solidarietà locali e internazionali, i laboratori di pedagogia lib
	ertaria, le assemblee di condominio, i laboratori artistici, le mostre d’a
	rte, i mercatini del dono e del baratto, gli sportelli solidali e sindacal
	i, abbiamo ospitato gruppi, artisti, poeti &nbsp;in connessione con le esp
	erienze culturali e politiche autogestite ed autorganizzate nelle lotte de
	l movimento antiautoritario internazionale.</p><p>Gli eventi culturali son
	o autorganizzati a sottoscrizione libera e operati tutti a titolo gratuito
	. A titolo gratuito e in economia sono stati messi a disposizione la manod
	opera e i materiali per la sistemazione e la manutenzione decennale del lo
	cale.</p><p>In questo locale abbiamo riattivato il progetto di archivio og
	gi dedicato a Tommaso Aversa e di biblioteca popolare in omaggio a Fabio I
	acopucci, un luogo di ricerca aperto, frequentato anche da studiosi e laur
	eandi. Oltre a conservare libri e documenti appartenenti o donate al Grupp
	o Cafiero, lo Spazio Anarchico 19 Luglio contiene fondi appartenenti anche
	 a collezioni private di più recente datazione.</p><p>E’ stato avviato un 
	percorso amministrativo e legale che ci sta richiedendo un impegno economi
	co straordinario pertanto abbiamo aperto la campagna “Lo Spazio Anarchico 
	19 Luglio non si chiude” e lanciato l’appello di sottoscrizione libera e c
	onsapevole a tutte le realtà e individualità solidali perché si attivino e
	 ci sostengano.</p><p>Grazie al CSOA Spartaco per l’ospitalità e per chi n
	on potrà esserci potrà comunque partecipare alla raccolta fondi sottoscriv
	endo all’ Associazione culturale 19 Luglio iban IT63T030690960610000040302
	8</p><p>Per info scrivere a cafierofairoma@inventati.org</p><p><a href="ht
	tp://www.cafierofairoma.wordpress.com" target="_blank">www.cafierofairoma.
	wordpress.com</a></p>
BEGIN:VALARM
ACTION:DISPLAY
DESCRIPTION:Concerto Benefit Spazio anarchico 19 Luglio al Csoa Spartaco
TRIGGER:-PT1H
END:VALARM
END:VEVENT
END:VCALENDAR
