BEGIN:VCALENDAR
VERSION:2.0
CALSCALE:GREGORIAN
PRODID:adamgibbons/ics
METHOD:PUBLISH
X-PUBLISHED-TTL:PT1H
BEGIN:VEVENT
UID:8880@eif.convoca.la
SUMMARY:DIA DEL LLIBRE A LA POLILLA
DTSTAMP:20260420T202404Z
DTSTART:20260423T090000Z
DTEND:20260423T170000Z
DESCRIPTION:El proper 23 d'abril d'11h a 19h obrirem el Quiosc Okupat de Pl
	aça Revolució amb\nfanzines\, làmines i més.\n\nDurant tot el dia hi haurà
	 punt de carteig a persones preses i enviament de\nllibres. Si vols enviar
	 un llibre rere els murs\, nosaltres el posem i paguem\nl'enviament.\n\nDe
	 17h a 18h es podrà fer serigrafia. Porta la teva roba\, sinó nosaltres en
	\ntenim!\n\nUs esperem! Foc a les presons!
URL:https://eif.convoca.la/event/dia-del-llibre-a-la-polilla
GEO:41.40266345;2.158146050000001
LOCATION:La Polilla - Plaça Revolució\, Barcelona
STATUS:CONFIRMED
CATEGORIES:
X-ALT-DESC;FMTTYPE=text/html:<p>El proper 23 d'abril d'11h a 19h obrirem el
	 Quiosc Okupat de Plaça Revolució amb fanzines, làmines i més.<br><br>Dura
	nt tot el dia hi haurà punt de carteig a persones preses i enviament de ll
	ibres. Si vols enviar un llibre rere els murs, nosaltres el posem i paguem
	 l'enviament.<br><br>De 17h a 18h es podrà fer serigrafia. Porta la teva r
	oba, sinó nosaltres en tenim!<br><br>Us esperem! Foc a les presons!</p>
BEGIN:VALARM
ACTION:DISPLAY
DESCRIPTION:DIA DEL LLIBRE A LA POLILLA
TRIGGER:-PT1H
END:VALARM
END:VEVENT
END:VCALENDAR
