BEGIN:VCALENDAR
VERSION:2.0
CALSCALE:GREGORIAN
PRODID:adamgibbons/ics
METHOD:PUBLISH
X-PUBLISHED-TTL:PT1H
BEGIN:VEVENT
UID:8926@eif.convoca.la
SUMMARY:JAM SESSION ACÙSTICA
DTSTAMP:20260421T214804Z
DTSTART:20260426T103000Z
DESCRIPTION:VERMUT + DINAR SOLIDARI PER UN COMPANY\n\n\n\n * 12:30 Vermut +
	 Jam Session\n\n * 15:00 Dinar
URL:https://eif.convoca.la/event/jam-session-acustica
GEO:41.4059836;2.1567601
LOCATION:Ateneu Llibertari de Gràcia - 5 B2\, Carrer de l'Alzina\, Gràcia\,
	 Barcelona\, 08024
STATUS:CONFIRMED
CATEGORIES:Gràcia,vermut,jamsesion,dinarVegà,acte solidari
X-ALT-DESC;FMTTYPE=text/html:<h3>Vermut + Dinar Solidari per un company</h3
	><p></p><ul><li><p><strong>12:30  Vermut + Jam Session</strong></p></li><l
	i><p><strong>15:00 Dinar</strong></p></li></ul>
BEGIN:VALARM
ACTION:DISPLAY
DESCRIPTION:JAM SESSION ACÙSTICA
TRIGGER:-PT1H
END:VALARM
END:VEVENT
END:VCALENDAR
