BEGIN:VCALENDAR
VERSION:2.0
CALSCALE:GREGORIAN
PRODID:adamgibbons/ics
METHOD:PUBLISH
X-PUBLISHED-TTL:PT1H
BEGIN:VEVENT
UID:8938@eif.convoca.la
SUMMARY:Jornades de jardineria al Llardí Lluerna 💚🌳🌱🛠️
DTSTAMP:20260421T230841Z
DTSTART:20260425T090000Z
DTEND:20260425T120000Z
DESCRIPTION:Aquest dissabte 25 d‘abril ens veiem a les 11:00 per una jornad
	a de jardineria\nen el nostre estimat Jardi Lluerna.\n💚🌳🌱🛠️\nJuntis millore
	m el barri per a totis.
URL:https://eif.convoca.la/event/jornades-de-jardineria-al-llardi-lluerna
LOCATION:Jardí Lluerna (Benimaclet) - Descampat de Benimaclet
STATUS:CONFIRMED
CATEGORIES:valència,valencia
X-ALT-DESC;FMTTYPE=text/html:<p>Aquest dissabte 25 d‘abril ens veiem a les 
	11:00 per una jornada de jardineria en el nostre estimat Jardi Lluerna. <b
	r>💚🌳🌱🛠️<br>Juntis millorem el barri per a totis.</p>
BEGIN:VALARM
ACTION:DISPLAY
DESCRIPTION:Jornades de jardineria al Llardí Lluerna 💚🌳🌱🛠️
TRIGGER:-PT1H
END:VALARM
END:VEVENT
END:VCALENDAR
