BEGIN:VCALENDAR
VERSION:2.0
CALSCALE:GREGORIAN
PRODID:adamgibbons/ics
METHOD:PUBLISH
X-PUBLISHED-TTL:PT1H
BEGIN:VEVENT
UID:8892@eif.convoca.la
SUMMARY:Laboratorio di autodifesa abitativa
DTSTAMP:20260420T202640Z
DTSTART:20260420T163000Z
DESCRIPTION:Lunedì 20 Aprile dalle 18:30 ci vediamo al CSOAT AuroeMarco per
	 il primo\nincontro del laboratorio di AutodifesaAbitativa di Roma sud.\nS
	arà un momento per incontrarci e confrontarci su tutto ciò che ruota intor
	no\nall’abitare (una casa\, un quartiere e una città) partendo dalle nostr
	e\nesperienze e bisogni\, cercando risposte e soluzioni nel mutuo appoggio
	 e nella\nsolidarietà.\nSe hai problemi col tuo proprietario\, se hai subi
	to una minaccia di sfratto\, se\npensi che la casa sia prima di tutto un d
	iritto per tuttə\, ci vediamo lunedì\nalle 18:30 in viale dei caduti nella
	 guerra di liberazione\,268.
URL:https://eif.convoca.la/event/laboratorio-di-autodifesa-abitativa
GEO:41.787833;12.4460882
LOCATION:CSOAT Auro e Marco - Viale dei Caduti nella Guerra di Liberazione\
	, 270
STATUS:CONFIRMED
CATEGORIES:territori,laboratorio,diritto all'abitare
X-ALT-DESC;FMTTYPE=text/html:<p>Lunedì 20 Aprile dalle 18:30 ci vediamo al 
	CSOAT AuroeMarco per il primo incontro del laboratorio di AutodifesaAbitat
	iva di Roma sud.<br>Sarà un momento per incontrarci e confrontarci su tutt
	o ciò che ruota intorno all’abitare (una casa, un quartiere e una città) p
	artendo dalle nostre esperienze e bisogni, cercando risposte e soluzioni n
	el mutuo appoggio e nella solidarietà. <br>Se hai problemi col tuo proprie
	tario, se hai subito una minaccia di sfratto, se pensi che la casa sia pri
	ma di tutto un diritto per tuttə, ci vediamo lunedì alle 18:30 in viale de
	i caduti nella guerra di liberazione,268.</p>
BEGIN:VALARM
ACTION:DISPLAY
DESCRIPTION:Laboratorio di autodifesa abitativa
TRIGGER:-PT1H
END:VALARM
END:VEVENT
END:VCALENDAR
