BEGIN:VCALENDAR
VERSION:2.0
CALSCALE:GREGORIAN
PRODID:adamgibbons/ics
METHOD:PUBLISH
X-PUBLISHED-TTL:PT1H
BEGIN:VEVENT
UID:8948@eif.convoca.la
SUMMARY:LIBERATION DANCE
DTSTAMP:20260423T114755Z
DTSTART:20260424T200000Z
DESCRIPTION:LIBERATION DANCE Session antifascista per celebrare l’antifasci
	smo e la lotta\npartigiana\, ballando tutta la notte insieme. Per l’occasi
	one abbiamo invitato “\nthe militant sound brigade” aka @peacefulwarriors.
	soundsystem che arriveranno\ndirettamente da Bologna con il loro sound rug
	gente! Garantita sound system\npressure e tante buone vibes per tutt! Come
	 sempre a celebrare in famiglia si\nalterneranno ai controlli anche @radio
	torresoundsystem @immiroots.sound.system\nper una session in heavy rotatio
	n style. Voleranno tante produzioni\, dubplate e\ndischetti rari! 100% qua
	lity music u know! Vi aspettiamo a @loaacrobax per\nvivere e celebrare ins
	ieme la libertà e l’antifascismo. Get ready! See you in\nsession people. P
	ure sound system\nexperience is coming!\n\nPeaceful Warriors sound system 
	full sound for the FIRST TIME IN ROME! REALLL\nSOUND SYSTEM EXPERIENCE U K
	NOW! GET READY ROME MASSIVE!! IT WILL BE CRAZY
URL:https://eif.convoca.la/event/liberation-dance
GEO:41.8579778;12.4687029
LOCATION:LOA Acrobax - Via della Vasca Navale 6\, Rome\, Metro B San Paolo
STATUS:CONFIRMED
CATEGORIES:
X-ALT-DESC;FMTTYPE=text/html:<p>LIBERATION DANCE<em> Session antifascista p
	er celebrare l’antifascismo e la lotta partigiana, ballando tutta la notte
	 insieme. Per l’occasione abbiamo invitato “ the militant sound brigade” a
	ka @peacefulwarriors.soundsystem che arriveranno direttamente da Bologna c
	on il loro sound ruggente! Garantita sound system pressure e tante buone v
	ibes per tutt! Come sempre a celebrare in famiglia si alterneranno ai cont
	rolli anche @radiotorresoundsystem @immiroots.sound.system per una session
	 in heavy rotation style. Voleranno tante produzioni, dubplate e dischetti
	 rari! 100% quality music u know! Vi aspettiamo a @loa</em>acrobax per viv
	ere e celebrare insieme la libertà e l’antifascismo. Get ready! See you in
	 session people. Pure sound system<br>experience is coming!</p><p>Peaceful
	 Warriors sound system full sound for the FIRST TIME IN ROME! REALLL SOUND
	 SYSTEM EXPERIENCE U KNOW! GET READY ROME MASSIVE!! IT WILL BE CRAZY</p>
BEGIN:VALARM
ACTION:DISPLAY
DESCRIPTION:LIBERATION DANCE
TRIGGER:-PT1H
END:VALARM
END:VEVENT
END:VCALENDAR
