BEGIN:VCALENDAR
VERSION:2.0
CALSCALE:GREGORIAN
PRODID:adamgibbons/ics
METHOD:PUBLISH
X-PUBLISHED-TTL:PT1H
BEGIN:VEVENT
UID:9014@eif.convoca.la
SUMMARY:Pantumacona
DTSTAMP:20260424T194141Z
DTSTART:20260430T220000Z
DTEND:20260503T215500Z
DESCRIPTION:——————————————\n🍅  PANTUMACONA 2026\n🚲  MASA CRÍTICA INTERPLANE
	TARIA\n——————————————\nBarcelona\, del 1 al 3 de mayo\n\nUna Criticona es 
	el encuentro de ciclistas más bestial que hayas conocido. Cada\naño se cel
	ebra en una ciudad diferente de España y\, diez años después\, le toca\nde
	 nuevo a Barcelona…\n\n¡Llega la segunda Pantumacona\, que es como denomin
	amos aquí nuestra Criticona!\n🎉🎉🎉\n\nDurante esta edición habrá de todo: b
	icis de préstamo\, alojamientos\, talleres de\ntodo tipo\, comida vegana\,
	 mercadillos\, charlas\, proyecciones\, mucha fiesta cada\nnoche y muchos 
	km de asfalto para recuperar pedaleando cada día. Y\, sobre todo\,\nmuchos
	 colectivos y entidades que están detrás de toda la organización y que\npr
	onto os detallaremos.\n\n¡Os esperamos! Con vosotrxs la Pantumacona será m
	ás sabrosa :)
URL:https://eif.convoca.la/event/pantumacona
LOCATION:Descentralitzat - A cap puesto en concret
STATUS:CONFIRMED
CATEGORIES:bici,tallers autogestionats de bicis,massa critica,Bicicleta,Bar
	celona,bicis
X-ALT-DESC;FMTTYPE=text/html:<p>——————————————<br>🍅&nbsp; PANTUMACONA 2026 
	<br>🚲&nbsp; MASA CRÍTICA INTERPLANETARIA <br>——————————————<br>Barcelona, 
	del 1 al 3 de mayo<br><br>Una Criticona es el encuentro de ciclistas más b
	estial que hayas conocido. Cada año se celebra en una ciudad diferente de 
	España y, diez años después, le toca de nuevo a Barcelona…<br><br>¡Llega l
	a segunda Pantumacona, que es como denominamos aquí nuestra Criticona! 🎉🎉🎉
	<br><br>Durante esta edición habrá de todo: bicis de préstamo, alojamiento
	s, talleres de todo tipo, comida vegana, mercadillos, charlas, proyeccione
	s, mucha fiesta cada noche y muchos km de asfalto para recuperar pedaleand
	o cada día. Y, sobre todo, muchos colectivos y entidades que están detrás 
	de toda la organización y que pronto os detallaremos.<br><br>¡Os esperamos
	! Con vosotrxs la Pantumacona será más sabrosa :)</p>
BEGIN:VALARM
ACTION:DISPLAY
DESCRIPTION:Pantumacona
TRIGGER:-PT1H
END:VALARM
END:VEVENT
END:VCALENDAR
