BEGIN:VCALENDAR
VERSION:2.0
CALSCALE:GREGORIAN
PRODID:adamgibbons/ics
METHOD:PUBLISH
X-PUBLISHED-TTL:PT1H
BEGIN:VEVENT
UID:9000@eif.convoca.la
SUMMARY:PSICOLOGÍA EN EL ATENEO: «Inteligencia emocional: Taller práctico»
DTSTAMP:20260424T015017Z
DTSTART:20260425T090000Z
DTEND:20260425T110000Z
DESCRIPTION:Folleto:\nhttps://ateneolibertariocarabanchellatina.wordpress.c
	om/2026/04/14/psicologia-en-el-ateneo-inteligencia-emocional-taller-practi
	co-25-de-abril-2026-sabado-11-h-en-el-eko-organiza-el-ateneo-libertario-ca
	rabanchel-latina/\n[https://ateneolibertariocarabanchellatina.wordpress.co
	m/2026/04/14/psicologia-en-el-ateneo-inteligencia-emocional-taller-practic
	o-25-de-abril-2026-sabado-11-h-en-el-eko-organiza-el-ateneo-libertario-car
	abanchel-latina/]
URL:https://eif.convoca.la/event/psicologia-en-el-ateneo-inteligencia-emoci
	onal-taller-practico
GEO:40.38897;-3.74569
LOCATION:Ateneo Libertario Carabanchel-Latina (ESLA Eko. 2ª planta Ateneo) 
	- Ateneo Libertario Carabanchel-Latina (ESLA Eko. 2ª planta Ateneo)
STATUS:CONFIRMED
CATEGORIES:Madrid,Psicología,Ateneo
X-ALT-DESC;FMTTYPE=text/html:<p>Folleto: <a href="https://ateneolibertarioc
	arabanchellatina.wordpress.com/2026/04/14/psicologia-en-el-ateneo-intelige
	ncia-emocional-taller-practico-25-de-abril-2026-sabado-11-h-en-el-eko-orga
	niza-el-ateneo-libertario-carabanchel-latina/" target="_blank">https://ate
	neolibertariocarabanchellatina.wordpress.com/2026/04/14/psicologia-en-el-a
	teneo-inteligencia-emocional-taller-practico-25-de-abril-2026-sabado-11-h-
	en-el-eko-organiza-el-ateneo-libertario-carabanchel-latina/</a></p>
BEGIN:VALARM
ACTION:DISPLAY
DESCRIPTION:PSICOLOGÍA EN EL ATENEO: «Inteligencia emocional: Taller prácti
	co»
TRIGGER:-PT1H
END:VALARM
END:VEVENT
END:VCALENDAR
