BEGIN:VCALENDAR
VERSION:2.0
CALSCALE:GREGORIAN
PRODID:adamgibbons/ics
METHOD:PUBLISH
X-PUBLISHED-TTL:PT1H
BEGIN:VEVENT
UID:8991@eif.convoca.la
SUMMARY:PUNK ALL'ARREMBAGGIO - vol 5
DTSTAMP:20260424T015437Z
DTSTART:20260501T140000Z
DTEND:20260502T215900Z
DESCRIPTION:Vele al vento\, strumenti pronti e rabbia che sale:\n\nal Bilan
	cione torna PUNK ALL’ARREMBAGGIO – quinta edizione.\n\nDue giorni autogest
	iti tra concerti\, assemblee e pratiche di resistenza.\n\nPer prenderci sp
	azio\, difenderlo e viverlo: dal fiume fino al mare.\n\n1° MAGGIO – dalle 
	16:00\n\nConcerti punk spakkaossa!\n\nBanKetti\, serigrafia live e cena be
	nefit Bilancione.\n\nCon Tonino nel cuore e contro tutte le morti sul lavo
	ro: nessuna festa finché si\ncontinua a morire per profitto.\n\n2 MAGGIO –
	 dalle 12:00\n\nPranzo benefit La Lima\, quizzone itinerante di Scienza Ra
	dicata\, assemblea\npubblica tra spazi e lotte\, presentazione Malamovida\
	, teatro\, cena benefit\nTaBerta e circo pirata.\n\nPorta energia\, presab
	bene\, cura e rabbia. Porta borraccia con acqua e porta via\nla tua monnez
	za.\n\nDAL FIUME FINO AL MARE\n\nNo Machi – No Fasci – No Grandi Navi
URL:https://eif.convoca.la/event/punk-allarrembaggio-vol-5-1
LOCATION:Bilancione occupato - Viale Claudio Caligari\, fiumicino
STATUS:CONFIRMED
CATEGORIES:concerti,Noporto
X-ALT-DESC;FMTTYPE=text/html:<p>Vele al vento, strumenti pronti e rabbia ch
	e sale:</p><p>al <em>Bilancione torna PUNK ALL’ARREMBAGGIO</em> – quinta e
	dizione.</p><p>Due giorni autogestiti tra concerti, assemblee e pratiche d
	i resistenza.</p><p>Per prenderci spazio, difenderlo e viverlo: dal fiume 
	fino al mare.</p><p>1° MAGGIO – dalle 16:00</p><p>Concerti punk spakkaossa
	! </p><p>BanKetti, serigrafia live e cena benefit Bilancione.</p><p>Con To
	nino nel cuore e contro tutte le morti sul lavoro: nessuna festa finché si
	 continua a morire per profitto.</p><p>2 MAGGIO – dalle 12:00</p><p>Pranzo
	 benefit La Lima, quizzone itinerante di Scienza Radicata, assemblea pubbl
	ica tra spazi e lotte, presentazione Malamovida, teatro, cena benefit TaBe
	rta e circo pirata.</p><p>Porta energia, presabbene, cura e rabbia. Porta 
	borraccia con acqua e porta via la tua monnezza.</p><p>DAL FIUME FINO AL M
	ARE</p><p>No Machi – No Fasci – No Grandi Navi</p>
BEGIN:VALARM
ACTION:DISPLAY
DESCRIPTION:PUNK ALL'ARREMBAGGIO - vol 5
TRIGGER:-PT1H
END:VALARM
END:VEVENT
END:VCALENDAR
