BEGIN:VCALENDAR
VERSION:2.0
CALSCALE:GREGORIAN
PRODID:adamgibbons/ics
METHOD:PUBLISH
X-PUBLISHED-TTL:PT1H
BEGIN:VEVENT
UID:8920@eif.convoca.la
SUMMARY:Record i homenatge al lluitador per la justícia i la llibertat Orio
	l Solé Sugranyes
DTSTAMP:20260421T143718Z
DTSTART:20260430T140000Z
DESCRIPTION:Amb Ricard de Vargas-Golarons\, historiador i militant anarquis
	ta i Felip Solé i\nSabaté\, escriptor i documentalista.\n\nCoordinador: Be
	rnat Castany\n\n📧 Inscripció prèvia: bcastanym@yahoo.es
URL:https://eif.convoca.la/event/record-i-homenatge-al-lluitador-per-la-jus
	ticia-i-la-llibertat-oriol-sole-sugranyes
LOCATION:Ateneu Barcelonès - Carrer de la Canuda\, 6
STATUS:CONFIRMED
CATEGORIES:presentació de llibre,Oriol Solé Sugranyes
X-ALT-DESC;FMTTYPE=text/html:<p>Amb Ricard de Vargas-Golarons, historiador 
	i militant anarquista i Felip Solé i Sabaté, escriptor i documentalista.</
	p><p>Coordinador: Bernat Castany</p><p>📧 Inscripció prèvia: bcastanym@yaho
	o.es</p>
BEGIN:VALARM
ACTION:DISPLAY
DESCRIPTION:Record i homenatge al lluitador per la justícia i la llibertat 
	Oriol Solé Sugranyes
TRIGGER:-PT1H
END:VALARM
END:VEVENT
END:VCALENDAR
