BEGIN:VCALENDAR
VERSION:2.0
CALSCALE:GREGORIAN
PRODID:adamgibbons/ics
METHOD:PUBLISH
X-PUBLISHED-TTL:PT1H
BEGIN:VEVENT
UID:8951@eif.convoca.la
SUMMARY:TALLER DE AUTODEFENSA
DTSTAMP:20260423T114908Z
DTSTART:20260502T090000Z
DTEND:20260508T223000Z
DESCRIPTION:VUELVEN LOS TALLERES DE AUTODEFENSA!\n\nEspacio de aprendizaje 
	y cuidado colectivo donde trabajamos herramientas de\nautodefensa pensadas
	 para el día a día.\n\nInico: 2 de Mayo\n⏰ 11:00 h\n📍 La Porvenir: C/Major
	 26\n\nNo se requiere experiencia previa ni condiciones físicas específica
	s.\nLas clases están abiertas a personas de todas las edades que quieran m
	overse con\nmás seguridad\, compartir saberes y construir autonomía desde 
	el cuerpo.\n\nA través de técnicas simples y accesibles\, se busca fortale
	cer la confianza\, la\npresencia corporal y la capacidad de respuesta ante
	 situaciones de violencia o\nriesgo.\nLa práctica propone reconocer la pro
	pia fuerza\, desarrollar reflejos y tomar\ndecisiones con mayor claridad\,
	 integrando cuerpo y mente.
URL:https://eif.convoca.la/event/taller-de-autodefensa-1
GEO:2.18795;41.48578
LOCATION:La Porvenir - Carrer Major 26\, 08110 Montcada i Reixac
STATUS:CONFIRMED
CATEGORIES:SantAndreu,taller,autodefensa,Montcada i Reixac,La Porvenir,taqu
	illaInversa
X-ALT-DESC;FMTTYPE=text/html:<p>VUELVEN LOS TALLERES DE AUTODEFENSA!</p><p>
	Espacio de aprendizaje y cuidado colectivo donde trabajamos herramientas d
	e autodefensa pensadas para el día a día.</p><p>Inico: 2 de Mayo<br>⏰ 11:0
	0 h<br>📍 La Porvenir: C/Major 26</p><p>No se requiere experiencia previa n
	i condiciones físicas específicas.<br>Las clases están abiertas a personas
	 de todas las edades que quieran moverse con más seguridad, compartir sabe
	res y construir autonomía desde el cuerpo.</p><p>A través de técnicas simp
	les y accesibles, se busca fortalecer la confianza, la presencia corporal 
	y la capacidad de respuesta ante situaciones de violencia o riesgo.<br>La 
	práctica propone reconocer la propia fuerza, desarrollar reflejos y tomar 
	decisiones con mayor claridad, integrando cuerpo y mente.</p>
BEGIN:VALARM
ACTION:DISPLAY
DESCRIPTION:TALLER DE AUTODEFENSA
TRIGGER:-PT1H
END:VALARM
END:VEVENT
END:VCALENDAR
