BEGIN:VCALENDAR
VERSION:2.0
CALSCALE:GREGORIAN
PRODID:adamgibbons/ics
METHOD:PUBLISH
X-PUBLISHED-TTL:PT1H
BEGIN:VEVENT
UID:8923@eif.convoca.la
SUMMARY:TATTOO FEST :  Concerto NERORGASMO \, Malamovida
DTSTAMP:20260421T183138Z
DTSTART:20260516T150000Z
DTEND:20260516T231500Z
DESCRIPTION:SAB 16 MAGGIO 2026\n\nTATTOO FEST presenta: NERORGASMO in conce
	rto per la loro unica data italiana\n\n(In apertura) MALA MOVIDA\n\nAll’in
	terno della due giorni tra tattoo\, performance\, presentazioni\, musica e
	\nbanchetti\, in concerto per la loro unica data italiana i NERORGASMO pre
	ceduti in\napertura dai MALA MOVIDA.\n\nBenefit for Sare Ngai agricultural
	 community project (GAMBIA)\n\n\n\nNERORGASMO\n\n\n\nI Nerorgasmo sono una
	 delle band più importanti\, note e influenti della scena\npunk/HC italian
	a.\n\n\n\nNati nella grigia tardoindustriale Torino del 1983\, scioltisi n
	el 1987 e di\nnuovo attivi dal 1993 al 1994 — periodo in cui registrarono 
	il loro classico\nalbum omonimo (El Paso Records) — i Nerorgasmo hanno svi
	luppato un seguito di\nculto multigenerazionale grazie ai loro brani antem
	ici\, che fondono l’HC\nultravelocissimo con momenti più lenti e oscuri\, 
	e ai testi indimenticabili\,\npoetici e autodistruttivi del loro carismati
	co cantante Luca “Abort” Bortolusso\n(1964–2000).\n\n\n\nOggi i Nerorgasmo
	 sono il fondatore della band Simone Cinotto (chitarra)\, il\nbatterista o
	riginale dell’LP del 1993 Francesco Dilecce (“Picchio”)\, e alle voci\nLui
	gi Bonizio (“Gigio”) e Francesco Goria (“Franz”)\, che suona anche il bass
	o.\n\n\n\nIl concerto del 16 maggio 2026 al Forte Prenestino di Roma é un 
	evento davvero\nspeciale.\n\n///\n\nMALA MOVIDA\n\nI Mala Movida sono una 
	band punk hardcore romana con forti influenze alternative\nrock\, nota per
	 i testi diretti e impegnati. Nati e cresciuti in squatt e centri\nsociali
	\, si distinguono per la potenza dei loro live e per un’attitudine\nprofon
	damente legata alla scena underground e autogestita.\n\nIl loro primo albu
	m\, anticipato dal singolo Pacifismo Violento .\n\nA seguire è uscito Gene
	razione Malamovida\, un nuovo EP che continua a raccontare\ndisagio\, rabb
	ia e resistenza urbana.\n\nUltimo uscita il singolo con video musicale: " 
	Amo vivere a Roma"\n\nSul palco portano energia\, sudore e un messaggio: l
	a musica può essere un atto\npolitico.
URL:https://eif.convoca.la/event/tattoo-fest-concerto-nerorgasmo-malamovida
GEO:41.8923425;12.569105
LOCATION:CSOA Forte Prenestino - via Federico delpino\, Roma\, Italy
STATUS:CONFIRMED
CATEGORIES:
X-ALT-DESC;FMTTYPE=text/html:<p>SAB 16 MAGGIO 2026</p><p>TATTOO FEST presen
	ta: NERORGASMO in concerto per la loro unica data italiana</p><p>(In apert
	ura) MALA MOVIDA</p><p>All’interno della due giorni tra tattoo, performanc
	e, presentazioni, musica e banchetti, in concerto per la loro unica data i
	taliana i NERORGASMO preceduti in apertura dai MALA MOVIDA.</p><p>Benefit 
	for Sare Ngai agricultural community project (GAMBIA)</p><p> </p><p>NERORG
	ASMO</p><p> </p><p>I Nerorgasmo sono una delle band più importanti, note e
	 influenti della scena punk/HC italiana.</p><p> </p><p>Nati nella grigia t
	ardoindustriale Torino del 1983, scioltisi nel 1987 e di nuovo attivi dal 
	1993 al 1994 — periodo in cui registrarono il loro classico album omonimo 
	(El Paso Records) — i Nerorgasmo hanno sviluppato un seguito di culto mult
	igenerazionale grazie ai loro brani antemici, che fondono l’HC ultraveloci
	ssimo con momenti più lenti e oscuri, e ai testi indimenticabili, poetici 
	e autodistruttivi del loro carismatico cantante Luca “Abort” Bortolusso (1
	964–2000).</p><p> </p><p>Oggi i Nerorgasmo sono il fondatore della band Si
	mone Cinotto (chitarra), il batterista originale dell’LP del 1993 Francesc
	o Dilecce (“Picchio”), e alle voci Luigi Bonizio (“Gigio”) e Francesco Gor
	ia (“Franz”), che suona anche il basso.</p><p> </p><p>Il concerto del 16 m
	aggio 2026 al Forte Prenestino di Roma é un evento davvero speciale.</p><p
	>///</p><p>MALA MOVIDA</p><p>I Mala Movida sono una band punk hardcore rom
	ana con forti influenze alternative rock, nota per i testi diretti e impeg
	nati. Nati e cresciuti in squatt e centri sociali, si distinguono per la p
	otenza dei loro live e per un’attitudine profondamente legata alla scena u
	nderground e autogestita.</p><p>Il loro primo album, anticipato dal singol
	o Pacifismo Violento .</p><p>A seguire è uscito Generazione Malamovida, un
	 nuovo EP che continua a raccontare disagio, rabbia e resistenza urbana.</
	p><p>Ultimo uscita il singolo con video musicale: " Amo vivere a Roma"</p>
	<p>Sul palco portano energia, sudore e un messaggio: la musica può essere 
	un atto politico.</p>
BEGIN:VALARM
ACTION:DISPLAY
DESCRIPTION:TATTOO FEST :  Concerto NERORGASMO , Malamovida
TRIGGER:-PT1H
END:VALARM
END:VEVENT
END:VCALENDAR
