BEGIN:VCALENDAR
VERSION:2.0
CALSCALE:GREGORIAN
PRODID:adamgibbons/ics
METHOD:PUBLISH
X-PUBLISHED-TTL:PT1H
BEGIN:VEVENT
UID:8750@eif.convoca.la
SUMMARY:Yoga Molón
DTSTAMP:20260420T125127Z
DTSTART:20260421T160000Z
DTEND:20260421T170000Z
URL:https://eif.convoca.la/event/yoga-molon-1
GEO:40.3906518;-3.6657487
LOCATION:La Horizontal - Calle Eduardo Requenas\, nº10\, San Diego\, Puente
	 de Vallecas\, Madrid\, Área metropolitana de Madrid y Corredor del Henare
	s\, Comunidad de Madrid\, 28053\, España
STATUS:CONFIRMED
CATEGORIES:Madrid
END:VEVENT
BEGIN:VEVENT
UID:8793@eif.convoca.la
SUMMARY:Clown
DTSTAMP:20260420T125127Z
DTSTART:20260422T170000Z
DTEND:20260422T193000Z
URL:https://eif.convoca.la/event/clown
GEO:40.3906518;-3.6657487
LOCATION:La Horizontal - Calle Eduardo Requenas\, nº10\, San Diego\, Puente
	 de Vallecas\, Madrid\, Área metropolitana de Madrid y Corredor del Henare
	s\, Comunidad de Madrid\, 28053\, España
STATUS:CONFIRMED
CATEGORIES:Madrid
END:VEVENT
BEGIN:VEVENT
UID:8813@eif.convoca.la
SUMMARY:Ritmo y Percusión con Señas
DTSTAMP:20260420T125127Z
DTSTART:20260423T163000Z
DTEND:20260423T181500Z
URL:https://eif.convoca.la/event/ritmo-y-percusion-con-senas
GEO:40.3906518;-3.6657487
LOCATION:La Horizontal - Calle Eduardo Requenas\, nº10\, San Diego\, Puente
	 de Vallecas\, Madrid\, Área metropolitana de Madrid y Corredor del Henare
	s\, Comunidad de Madrid\, 28053\, España
STATUS:CONFIRMED
CATEGORIES:Madrid
END:VEVENT
BEGIN:VEVENT
UID:8837@eif.convoca.la
SUMMARY:Teatro Terápeutico
DTSTAMP:20260420T125127Z
DTSTART:20260424T160000Z
DTEND:20260424T180000Z
URL:https://eif.convoca.la/event/teatro-terapeutico
GEO:40.3906518;-3.6657487
LOCATION:La Horizontal - Calle Eduardo Requenas\, nº10\, San Diego\, Puente
	 de Vallecas\, Madrid\, Área metropolitana de Madrid y Corredor del Henare
	s\, Comunidad de Madrid\, 28053\, España
STATUS:CONFIRMED
CATEGORIES:Madrid
END:VEVENT
BEGIN:VEVENT
UID:8779@eif.convoca.la
SUMMARY:Baile Social Swing de Barrio
DTSTAMP:20260420T125127Z
DTSTART:20260425T180000Z
DTEND:20260425T200000Z
URL:https://eif.convoca.la/event/baile-social-swing-de-barrio
GEO:40.3906518;-3.6657487
LOCATION:La Horizontal - Calle Eduardo Requenas\, nº10\, San Diego\, Puente
	 de Vallecas\, Madrid\, Área metropolitana de Madrid y Corredor del Henare
	s\, Comunidad de Madrid\, 28053\, España
STATUS:CONFIRMED
CATEGORIES:Baile,La Horizontal,Madrid,Swing,SwingDeBarrio,baile social
END:VEVENT
BEGIN:VEVENT
UID:8853@eif.convoca.la
SUMMARY:Club de Lectura de Cuentos
DTSTAMP:20260420T125127Z
DTSTART:20260516T100000Z
DTEND:20260517T000000Z
URL:https://eif.convoca.la/event/club-de-lectura-de-cuentos-1
GEO:40.3906518;-3.6657487
LOCATION:La Horizontal - Calle Eduardo Requenas\, nº10\, San Diego\, Puente
	 de Vallecas\, Madrid\, Área metropolitana de Madrid y Corredor del Henare
	s\, Comunidad de Madrid\, 28053\, España
STATUS:CONFIRMED
CATEGORIES:Madrid
END:VEVENT
END:VCALENDAR
