BEGIN:VCALENDAR
VERSION:2.0
CALSCALE:GREGORIAN
PRODID:adamgibbons/ics
METHOD:PUBLISH
X-PUBLISHED-TTL:PT1H
BEGIN:VEVENT
UID:8766@eif.convoca.la
SUMMARY:25 Aprile 1945-2026 - 81° Festa della Liberazione-Pranzo sociale e 
	solidale
DTSTAMP:20260421T110735Z
DTSTART:20260425T110000Z
DTEND:20260425T130000Z
URL:https://eif.convoca.la/event/25-aprile-1945-2026-81degree-festa-della-l
	iberazione-pranzo-sociale-e-solidale
GEO:41.8650071;12.4903535
LOCATION:Spazio Anarchico 19 Luglio - Via Rocco da Cesinale\, 18\, 00154 Ro
	ma RM
STATUS:CONFIRMED
CATEGORIES:
END:VEVENT
END:VCALENDAR
