BEGIN:VCALENDAR
VERSION:2.0
CALSCALE:GREGORIAN
PRODID:adamgibbons/ics
METHOD:PUBLISH
X-PUBLISHED-TTL:PT1H
BEGIN:VEVENT
UID:8897@eif.convoca.la
SUMMARY:CONTRO LA GUERRA\, FUORI I FASCI DEI QUARTIERI
DTSTAMP:20260420T214619Z
DTSTART:20260426T110000Z
URL:https://eif.convoca.la/event/contro-la-guerra-fuori-i-fasci-dei-quartie
	ri
GEO:41.8754487;12.543506
LOCATION:Parco Sangalli - Parco sangalli - Torpignattara
STATUS:CONFIRMED
CATEGORIES:
END:VEVENT
END:VCALENDAR
