BEGIN:VCALENDAR
VERSION:2.0
CALSCALE:GREGORIAN
PRODID:adamgibbons/ics
METHOD:PUBLISH
X-PUBLISHED-TTL:PT1H
BEGIN:VEVENT
UID:8902@eif.convoca.la
SUMMARY:Concerto punk hc contro la repressione
DTSTAMP:20260420T214735Z
DTSTART:20260613T180000Z
URL:https://eif.convoca.la/event/concerto-punk-hc-contro-la-repressione
GEO:41.7860549;12.346879
LOCATION:Ateneo Squat - Via O. Fattiboni 1\, Roma\, Italy
STATUS:CONFIRMED
CATEGORIES:concerti,lotta anticarceraria,solidarietà
END:VEVENT
END:VCALENDAR
