BEGIN:VCALENDAR
VERSION:2.0
CALSCALE:GREGORIAN
PRODID:adamgibbons/ics
METHOD:PUBLISH
X-PUBLISHED-TTL:PT1H
BEGIN:VEVENT
UID:8980@eif.convoca.la
SUMMARY:Abolire lo stato di cose presente
DTSTAMP:20260423T202010Z
DTSTART:20260427T170000Z
URL:https://eif.convoca.la/event/abolire-lo-stato-di-cose-presente
GEO:41.8911016;12.5313104
LOCATION:Zazie nel metrò - Via Ettore Giovenale 16\, Roma
STATUS:CONFIRMED
CATEGORIES:
END:VEVENT
END:VCALENDAR
