BEGIN:VCALENDAR
VERSION:2.0
CALSCALE:GREGORIAN
PRODID:adamgibbons/ics
METHOD:PUBLISH
X-PUBLISHED-TTL:PT1H
BEGIN:VEVENT
UID:8912@eif.convoca.la
SUMMARY:Kafeta\, charla y taller de genitalidad textil🧵🐚🪷
DTSTAMP:20260421T152709Z
DTSTART:20260424T160000Z
DTEND:20260424T213000Z
URL:https://eif.convoca.la/event/kafeta-charla-y-taller-de-genitalidad-text
	il
GEO:40.3917682;-3.7310561
LOCATION:ESLA Eko - 10\, Calle del Ánade\, San Isidro\, Carabanchel\, Madri
	d\, Área metropolitana de Madrid y Corredor del Henares\, Comunidad de Mad
	rid\, 28019\, EspañaDÍA DE CARRERAS
STATUS:CONFIRMED
CATEGORIES:Costura,Eko,Madrid,Pinchada,Transfeminista,kafeta,taller
END:VEVENT
END:VCALENDAR
