BEGIN:VCALENDAR
VERSION:2.0
CALSCALE:GREGORIAN
PRODID:adamgibbons/ics
METHOD:PUBLISH
X-PUBLISHED-TTL:PT1H
BEGIN:VEVENT
UID:8944@eif.convoca.la
SUMMARY:Homenaje a Patricia Heras
DTSTAMP:20260422T133411Z
DTSTART:20260424T130000Z
DTEND:20260424T180000Z
URL:https://eif.convoca.la/event/homenaje-a-patricia-heras
GEO:41.3783543;2.1678203
LOCATION:Agora Juan Andrés Benítez - carrer Riereta amb Aurora
STATUS:CONFIRMED
CATEGORIES:PatriciaHeras,Raval,ciutatMorta,homenatge,violència policial
END:VEVENT
BEGIN:VEVENT
UID:8886@eif.convoca.la
SUMMARY:Presentació del llibre: “3 de Marzo. Huelga\, masacre y memoria”
DTSTAMP:20260422T133411Z
DTSTART:20260427T170000Z
DTEND:20260427T184500Z
URL:https://eif.convoca.la/event/presentacio-del-llibre-3-de-marzo-huelga-m
	asacre-y-memoria
LOCATION:Associació Cultural el Raval - El Lokal - C/ de la cera 1 local 4
STATUS:CONFIRMED
CATEGORIES:Raval,presentacióLlibre
END:VEVENT
BEGIN:VEVENT
UID:8554@eif.convoca.la
SUMMARY:Vermút-Presentació del llibre: Tras las huellas de una vida generos
	a…. [2ª ed]
DTSTAMP:20260422T133411Z
DTSTART:20260509T100000Z
DTEND:20260509T130000Z
URL:https://eif.convoca.la/event/vermut-presentacio-del-llibre-tras-las-hue
	llas-de-una-vida-generosa-2a-ed
GEO:41.3783543;2.1678203
LOCATION:Agora Juan Andrés Benítez - carrer Riereta amb Aurora
STATUS:CONFIRMED
CATEGORIES:Raval,presentacióLlibre
END:VEVENT
BEGIN:VEVENT
UID:8862@eif.convoca.la
SUMMARY:Vermút + podcast en viu. Cossos\, dades i territoris” amb varies ha
	ckfeministes d´Amèrica llatina
DTSTAMP:20260422T133411Z
DTSTART:20260517T110000Z
DTEND:20260517T130000Z
URL:https://eif.convoca.la/event/vermut-podcast-en-viu-cossos-dades-i-terri
	toris-amb-varies-hackfeministes-damerica-llatina
GEO:41.3783543;2.1678203
LOCATION:Agora Juan Andrés Benítez - carrer Riereta amb Aurora
STATUS:CONFIRMED
CATEGORIES:Raval,abya yala,transhackfeminista
END:VEVENT
END:VCALENDAR
