BEGIN:VCALENDAR
VERSION:2.0
CALSCALE:GREGORIAN
PRODID:adamgibbons/ics
METHOD:PUBLISH
X-PUBLISHED-TTL:PT1H
BEGIN:VEVENT
UID:8586@eif.convoca.la
SUMMARY:El Lokal. Sant Jordi 2026. La bellesa està al carrer
DTSTAMP:20260423T130911Z
DTSTART:20260423T070000Z
DTEND:20260423T190000Z
URL:https://eif.convoca.la/event/el-lokal-sant-jordi-2026-la-bellessa-esta-
	al-carrer
LOCATION:Portal de l'Angel - Portal de l’Àngel
STATUS:CONFIRMED
CATEGORIES:ElGòtic,SantJordi
END:VEVENT
BEGIN:VEVENT
UID:8880@eif.convoca.la
SUMMARY:DIA DEL LLIBRE A LA POLILLA
DTSTAMP:20260423T130911Z
DTSTART:20260423T090000Z
DTEND:20260423T170000Z
URL:https://eif.convoca.la/event/dia-del-llibre-a-la-polilla
GEO:41.40266345;2.158146050000001
LOCATION:La Polilla - Plaça Revolució\, Barcelona
STATUS:CONFIRMED
CATEGORIES:Gràcia,SantJordi
END:VEVENT
BEGIN:VEVENT
UID:8969@eif.convoca.la
SUMMARY:El Sotrac fa paradeta de llibres per Sant Jordi
DTSTAMP:20260423T130911Z
DTSTART:20260423T130000Z
DTEND:20260423T183000Z
URL:https://eif.convoca.la/event/el-sotrac-fa-paradeta-de-llibres-per-sant-
	jordi
GEO:41.4303043;2.188017
LOCATION:La Cinètika - 32\, Rambla de Fabra i Puig\, Sant Andreu\, Barcelon
	a\, 08030
STATUS:CONFIRMED
CATEGORIES:Cultura,LaCinètika,SantAndreu,SantAndreuDelPalomar,SantJordi,aut
	ogestió,biblioteca
END:VEVENT
BEGIN:VEVENT
UID:8835@eif.convoca.la
SUMMARY:Prosa de foc
DTSTAMP:20260423T130911Z
DTSTART:20260425T100000Z
DTEND:20260425T200000Z
URL:https://eif.convoca.la/event/prosa-de-foc
GEO:41.4009896;2.1573332
LOCATION:L'Hort de Ka la Trava - 154\, Travessera de Gràcia\, Gràcia\, Barc
	elona\, 08012
STATUS:CONFIRMED
CATEGORIES:Gràcia,SantJordi,paradetes de llibres,presentacióLlibre
END:VEVENT
END:VCALENDAR
