BEGIN:VCALENDAR
VERSION:2.0
CALSCALE:GREGORIAN
PRODID:adamgibbons/ics
METHOD:PUBLISH
X-PUBLISHED-TTL:PT1H
BEGIN:VEVENT
UID:8987@eif.convoca.la
SUMMARY:10è aniversari de l'Horta Alliberada
DTSTAMP:20260425T002151Z
DTSTART:20260425T100000Z
URL:https://eif.convoca.la/event/10e-aniversari-de-lhorta-alliberada
GEO:41.3746026;2.131927
LOCATION:L'Horta Alliberada - 15\, Carrer de Càceres\, Sants\, Barcelona\, 
	08028
STATUS:CONFIRMED
CATEGORIES:Sants,aniversari,dinarVegà,hort,musica,vermut
END:VEVENT
BEGIN:VEVENT
UID:9017@eif.convoca.la
SUMMARY:Festa de la primavera d'Arcàdia
DTSTAMP:20260425T002151Z
DTSTART:20260425T143000Z
URL:https://eif.convoca.la/event/festa-de-la-primavera-darcadia
GEO:41.37411065;2.1345824467802545
LOCATION:CSA Can Vies - 42\, Carrer dels Jocs Florals\, Sants\, Barcelona\,
	 08014
STATUS:CONFIRMED
CATEGORIES:Arcàdia,Sants,infants,pedagogia,pedagogies llibertàries
END:VEVENT
BEGIN:VEVENT
UID:8545@eif.convoca.la
SUMMARY:InauguracióUllal\, festival de fotografia incisiva
DTSTAMP:20260425T002151Z
DTSTART:20260425T160000Z
DTEND:20260426T000000Z
URL:https://eif.convoca.la/event/inauguracioullal-festival-de-fotografia-in
	cisiva
GEO:41.3692405;2.1370339
LOCATION:Can Batlló - 19\, Carrer de la Constitució\, la Bordeta\, Barcelon
	a\, 08014
STATUS:CONFIRMED
CATEGORIES:Sants,autogestió,contracultura,festival fotografia,fotografia
END:VEVENT
BEGIN:VEVENT
UID:8693@eif.convoca.la
SUMMARY:Persecució i repressió a les dones durant el franquisme
DTSTAMP:20260425T002151Z
DTSTART:20260425T160000Z
DTEND:20260425T190000Z
URL:https://eif.convoca.la/event/persecucio-i-repressio-a-les-dones-durant-
	el-franquisme
GEO:41.3692405;2.1370339
LOCATION:Can Batlló - 19\, Carrer de la Constitució\, la Bordeta\, Barcelon
	a\, 08014
STATUS:CONFIRMED
CATEGORIES:CanBatlló,Documental,Sants,debat,exposició,taularodona
END:VEVENT
BEGIN:VEVENT
UID:8890@eif.convoca.la
SUMMARY:Presentació de l'exposició i del llibre 'Trabajo para alquilar'
DTSTAMP:20260425T002151Z
DTSTART:20260429T163000Z
URL:https://eif.convoca.la/event/presentacio-de-lexposicio-i-del-llibre-tra
	bajo-para-alquilar
GEO:41.3692405;2.1370339
LOCATION:Can Batlló - 19\, Carrer de la Constitució\, la Bordeta\, Barcelon
	a\, 08014
STATUS:CONFIRMED
CATEGORIES:Sants,presentacióLlibre
END:VEVENT
BEGIN:VEVENT
UID:8988@eif.convoca.la
SUMMARY:10è aniversari de l'Horta Alliberada
DTSTAMP:20260425T002151Z
DTSTART:20260502T090000Z
DTEND:20260502T193000Z
URL:https://eif.convoca.la/event/10e-aniversari-de-lhorta-alliberada-1
GEO:41.3746026;2.131927
LOCATION:L'Horta Alliberada - 15\, Carrer de Càceres\, Sants\, Barcelona\, 
	08028
STATUS:CONFIRMED
CATEGORIES:Sants,aniversari,dinarVegà,hort,musica,vermut
END:VEVENT
END:VCALENDAR
