BEGIN:VCALENDAR
VERSION:2.0
CALSCALE:GREGORIAN
PRODID:adamgibbons/ics
METHOD:PUBLISH
X-PUBLISHED-TTL:PT1H
BEGIN:VEVENT
UID:8834@eif.convoca.la
SUMMARY:Taller basic de so
DTSTAMP:20260420T215204Z
DTSTART:20260422T163000Z
DTEND:20260422T183000Z
URL:https://eif.convoca.la/event/taller-basic-de-so
GEO:41.4119965;2.1454752
LOCATION:La Fusteria de Vallcarca - 24\, Carrer de l'Argentera\, Vallcarca\
	, Barcelona\, 08023
STATUS:CONFIRMED
CATEGORIES:La Fusteria,Vallcarca,autogestió,so
END:VEVENT
BEGIN:VEVENT
UID:8709@eif.convoca.la
SUMMARY:✨ Sant Jordi Llibertari ✨
DTSTAMP:20260420T215204Z
DTSTART:20260423T080000Z
DTEND:20260423T180000Z
URL:https://eif.convoca.la/event/sparkles-sant-jordi-llibertari-sparkles
LOCATION:Plaça Revolució - Plaça Revolució\, Gràcia
STATUS:CONFIRMED
CATEGORIES:Gràcia,autogestió,diada popular,sant Jordi
END:VEVENT
BEGIN:VEVENT
UID:8894@eif.convoca.la
SUMMARY:Ring poètic a la Base!
DTSTAMP:20260420T215204Z
DTSTART:20260424T180000Z
DTEND:20260424T215500Z
URL:https://eif.convoca.la/event/ring-poetic-a-la-base
GEO:41.3731861;2.1672621
LOCATION:Ateneu La Base - 10\, Carrer d'Hortes\, el Poble-sec\, Barcelona\,
	 08001
STATUS:CONFIRMED
CATEGORIES:autogestió,poesia,sparring
END:VEVENT
BEGIN:VEVENT
UID:8545@eif.convoca.la
SUMMARY:InauguracióUllal\, festival de fotografia incisiva
DTSTAMP:20260420T215204Z
DTSTART:20260425T160000Z
DTEND:20260426T000000Z
URL:https://eif.convoca.la/event/inauguracioullal-festival-de-fotografia-in
	cisiva
GEO:41.3692405;2.1370339
LOCATION:Can Batlló - 19\, Carrer de la Constitució\, la Bordeta\, Barcelon
	a\, 08014
STATUS:CONFIRMED
CATEGORIES:Sants,autogestió,contracultura,festival fotografia,fotografia
END:VEVENT
BEGIN:VEVENT
UID:7669@eif.convoca.la
SUMMARY:12-O Tanquem les xarxes colonials
DTSTAMP:20260420T215204Z
DTSTART:20261011T220000Z
DTEND:20261011T220000Z
URL:https://eif.convoca.la/event/12-o-tanquem-les-xarxes-colonials
LOCATION:online - https:// per tot arreu
STATUS:CONFIRMED
CATEGORIES:XXIV Mostra del Llibre Anarquista,anticapitalisme,anticolonialis
	me,autogestió,descentralització,emancipació digital,fedivers,privacitat di
	gital,programari lliure,valencia,valència
END:VEVENT
END:VCALENDAR
