BEGIN:VCALENDAR
VERSION:2.0
CALSCALE:GREGORIAN
PRODID:adamgibbons/ics
METHOD:PUBLISH
X-PUBLISHED-TTL:PT1H
BEGIN:VEVENT
UID:8974@eif.convoca.la
SUMMARY:Regularització: Punt de Suport i Informació Gratuït
DTSTAMP:20260423T203310Z
DTSTART:20260430T160000Z
DTEND:20260430T190000Z
URL:https://eif.convoca.la/event/regularitzacio-punt-de-suport-i-informacio
	-gratuit
GEO:39.4705;-0.39647
LOCATION:Casal Obrer i Popular de l'Olivereta - C/ Olímpia Arozena Torres\,
	 42\, baix esquerra
STATUS:CONFIRMED
CATEGORIES:olivereta,regularització,valencia,valència
END:VEVENT
BEGIN:VEVENT
UID:8975@eif.convoca.la
SUMMARY:Regularització: Punt de Suport i Informació Gratuït
DTSTAMP:20260423T203310Z
DTSTART:20260507T160000Z
DTEND:20260507T190000Z
URL:https://eif.convoca.la/event/regularitzacio-punt-de-suport-i-informacio
	-gratuit-1
GEO:39.4705;-0.39647
LOCATION:Casal Obrer i Popular de l'Olivereta - C/ Olímpia Arozena Torres\,
	 42\, baix esquerra
STATUS:CONFIRMED
CATEGORIES:olivereta,regularització,valencia,valència
END:VEVENT
BEGIN:VEVENT
UID:8976@eif.convoca.la
SUMMARY:Regularització: Punt de Suport i Informació Gratuït
DTSTAMP:20260423T203310Z
DTSTART:20260514T160000Z
DTEND:20260514T190000Z
URL:https://eif.convoca.la/event/regularitzacio-punt-de-suport-i-informacio
	-gratuit-2
GEO:39.4705;-0.39647
LOCATION:Casal Obrer i Popular de l'Olivereta - C/ Olímpia Arozena Torres\,
	 42\, baix esquerra
STATUS:CONFIRMED
CATEGORIES:olivereta,regularització,valencia,valència
END:VEVENT
BEGIN:VEVENT
UID:8977@eif.convoca.la
SUMMARY:Regularització: Punt de Suport i Informació Gratuït
DTSTAMP:20260423T203310Z
DTSTART:20260521T160000Z
DTEND:20260521T190000Z
URL:https://eif.convoca.la/event/regularitzacio-punt-de-suport-i-informacio
	-gratuit-3
GEO:39.4705;-0.39647
LOCATION:Casal Obrer i Popular de l'Olivereta - C/ Olímpia Arozena Torres\,
	 42\, baix esquerra
STATUS:CONFIRMED
CATEGORIES:olivereta,regularització,valencia,valència
END:VEVENT
BEGIN:VEVENT
UID:8978@eif.convoca.la
SUMMARY:Regularització: Punt de Suport i Informació Gratuït
DTSTAMP:20260423T203310Z
DTSTART:20260528T160000Z
DTEND:20260528T190000Z
URL:https://eif.convoca.la/event/regularitzacio-punt-de-suport-i-informacio
	-gratuit-4
GEO:39.4705;-0.39647
LOCATION:Casal Obrer i Popular de l'Olivereta - C/ Olímpia Arozena Torres\,
	 42\, baix esquerra
STATUS:CONFIRMED
CATEGORIES:olivereta,regularització,valencia,valència
END:VEVENT
BEGIN:VEVENT
UID:8979@eif.convoca.la
SUMMARY:Regularització: Punt de Suport i Informació Gratuït
DTSTAMP:20260423T203310Z
DTSTART:20260604T160000Z
DTEND:20260604T190000Z
URL:https://eif.convoca.la/event/regularitzacio-punt-de-suport-i-informacio
	-gratuit-5
GEO:39.4705;-0.39647
LOCATION:Casal Obrer i Popular de l'Olivereta - C/ Olímpia Arozena Torres\,
	 42\, baix esquerra
STATUS:CONFIRMED
CATEGORIES:olivereta,regularització,valencia,valència
END:VEVENT
BEGIN:VEVENT
UID:8982@eif.convoca.la
SUMMARY:Regularització: Punt de Suport i Informació Gratuït
DTSTAMP:20260423T203310Z
DTSTART:20260611T160000Z
DTEND:20260611T190000Z
URL:https://eif.convoca.la/event/regularitzacio-punt-de-suport-i-informacio
	-gratuit-6
GEO:39.4705;-0.39647
LOCATION:Casal Obrer i Popular de l'Olivereta - C/ Olímpia Arozena Torres\,
	 42\, baix esquerra
STATUS:CONFIRMED
CATEGORIES:olivereta,regularització,valencia,valència
END:VEVENT
BEGIN:VEVENT
UID:8983@eif.convoca.la
SUMMARY:Regularització: Punt de Suport i Informació Gratuït
DTSTAMP:20260423T203310Z
DTSTART:20260618T160000Z
DTEND:20260618T190000Z
URL:https://eif.convoca.la/event/regularitzacio-punt-de-suport-i-informacio
	-gratuit-7
GEO:39.4705;-0.39647
LOCATION:Casal Obrer i Popular de l'Olivereta - C/ Olímpia Arozena Torres\,
	 42\, baix esquerra
STATUS:CONFIRMED
CATEGORIES:olivereta,regularització,valencia,valència
END:VEVENT
BEGIN:VEVENT
UID:8984@eif.convoca.la
SUMMARY:Regularització: Punt de Suport i Informació Gratuït
DTSTAMP:20260423T203310Z
DTSTART:20260625T160000Z
DTEND:20260625T190000Z
URL:https://eif.convoca.la/event/regularitzacio-punt-de-suport-i-informacio
	-gratuit-8
GEO:39.4705;-0.39647
LOCATION:Casal Obrer i Popular de l'Olivereta - C/ Olímpia Arozena Torres\,
	 42\, baix esquerra
STATUS:CONFIRMED
CATEGORIES:olivereta,regularització,valencia,valència
END:VEVENT
END:VCALENDAR
