BEGIN:VCALENDAR
VERSION:2.0
CALSCALE:GREGORIAN
PRODID:adamgibbons/ics
METHOD:PUBLISH
X-PUBLISHED-TTL:PT1H
BEGIN:VEVENT
UID:8722@eif.convoca.la
SUMMARY:Ciclooficina Taller no-mixt al CSN!
DTSTAMP:20260420T125236Z
DTSTART:20260420T160000Z
DTEND:20260420T180000Z
URL:https://eif.convoca.la/event/ciclooficina-taller-no-mixt-al-csn
GEO:39.4757;-0.377993
LOCATION:CSOA CSN - C/ Cadirers 2\, Ciutat Vella
STATUS:CONFIRMED
CATEGORIES:valencia,valència
END:VEVENT
BEGIN:VEVENT
UID:8723@eif.convoca.la
SUMMARY:Classes Populars i gratuïtes de Valencià
DTSTAMP:20260420T125236Z
DTSTART:20260420T163000Z
DTEND:20260420T183000Z
URL:https://eif.convoca.la/event/classes-populars-i-gratuites-de-valencia
GEO:39.4705;-0.39647
LOCATION:Casal Obrer i Popular de l'Olivereta - C/ Olímpia Arozena Torres\,
	 42\, baix esquerra
STATUS:CONFIRMED
CATEGORIES:valencia,valència
END:VEVENT
BEGIN:VEVENT
UID:7874@eif.convoca.la
SUMMARY:XXIV Mostra del Llibre Anarquista de València
DTSTAMP:20260420T125236Z
DTSTART:20260420T170000Z
DTEND:20260426T193000Z
URL:https://eif.convoca.la/event/xxiv-mostra-del-llibre-anarquista-de-valen
	cia
GEO:39.3342;-0.797347
LOCATION:Múltiples llocs - València / Valencia\, Comunitat Valenciana\, Esp
	aña
STATUS:CONFIRMED
CATEGORIES:XXIV Mostra del Llibre Anarquista,anarquisme,benimaclet,cabanyal
	,ciutat vella,llibres,mislata,presentació,torrefiel,valencia,valència,xerr
	ada
END:VEVENT
BEGIN:VEVENT
UID:8857@eif.convoca.la
SUMMARY:Presentació de l’Observatori de Gordofòbia Sanitària
DTSTAMP:20260420T125236Z
DTSTART:20260420T170000Z
DTEND:20260420T190000Z
URL:https://eif.convoca.la/event/presentacio-de-lobservatori-de-gordofobia-
	sanitaria-i-del-fanzine-tan-guapa-de-cara
GEO:39.4658;-0.329767
LOCATION:Ateneu Llibertari del Cabanyal - C/ Barraca 57\, baix esquerra
STATUS:CONFIRMED
CATEGORIES:XXIV Mostra del Llibre Anarquista,diversitats corporals,gordofòb
	ia,valencia,valència
END:VEVENT
BEGIN:VEVENT
UID:8868@eif.convoca.la
SUMMARY:Presentació del fanzine "Tan guapa de cara: gordura y sexualidad"
DTSTAMP:20260420T125236Z
DTSTART:20260420T170000Z
DTEND:20260420T190000Z
URL:https://eif.convoca.la/event/presentacio-del-fanzine-tan-guapa-de-cara-
	gordura-y-sexualidad
GEO:39.4658;-0.329767
LOCATION:Ateneu Llibertari del Cabanyal - C/ Barraca 57\, baix esquerra
STATUS:CONFIRMED
CATEGORIES:XXIV Mostra del Llibre Anarquista,gordofòbia,sexualitat,valencia
	,valència
END:VEVENT
BEGIN:VEVENT
UID:8749@eif.convoca.la
SUMMARY:El Taller de Reparació Comunitari LA CLOACA
DTSTAMP:20260420T125236Z
DTSTART:20260421T150000Z
DTEND:20260421T180000Z
URL:https://eif.convoca.la/event/el-taller-de-reparacio-comunitari-la-cloac
	a-1
GEO:39.4956;-0.376561
LOCATION:El Punt - C/ de Josep Esteve 46\, Torrefiel\, 46019 València
STATUS:CONFIRMED
CATEGORIES:valencia,valència
END:VEVENT
BEGIN:VEVENT
UID:8437@eif.convoca.la
SUMMARY:Presentació Amparo Poch y Gascón i El Punt
DTSTAMP:20260420T125236Z
DTSTART:20260421T160000Z
DTEND:20260421T180000Z
URL:https://eif.convoca.la/event/presentacio-amparo-poch-y-gascon-i-el-punt
GEO:39.4956;-0.376561
LOCATION:El Punt - C/ de Josep Esteve 46\, Torrefiel\, 46019 València
STATUS:CONFIRMED
CATEGORIES:El Punt,XXIV Mostra del Llibre Anarquista,espurnes i foscors,fem
	inismes,llibres,memòria històrica,valencia,valència
END:VEVENT
BEGIN:VEVENT
UID:8867@eif.convoca.la
SUMMARY:PARDALEJANT - Ruta ornitològica per l'horta de Benimaclet
DTSTAMP:20260420T125236Z
DTSTART:20260421T163000Z
DTEND:20260421T183000Z
URL:https://eif.convoca.la/event/pardalejant-ruta-ornitologica-per-lhorta-d
	e-benimaclet
LOCATION:Jardí Lluerna (Benimaclet) - Descampat de Benimaclet
STATUS:CONFIRMED
CATEGORIES:valencia,valència
END:VEVENT
BEGIN:VEVENT
UID:8764@eif.convoca.la
SUMMARY:Cuir Cor
DTSTAMP:20260420T125236Z
DTSTART:20260421T173000Z
DTEND:20260421T193000Z
URL:https://eif.convoca.la/event/cuir-cor
GEO:39.4757;-0.377993
LOCATION:CSOA CSN - C/ Cadirers 2\, Ciutat Vella
STATUS:CONFIRMED
CATEGORIES:valencia,valència
END:VEVENT
BEGIN:VEVENT
UID:8767@eif.convoca.la
SUMMARY:Taller de ceràmica al CSN
DTSTAMP:20260420T125236Z
DTSTART:20260422T080000Z
DTEND:20260422T100000Z
URL:https://eif.convoca.la/event/taller-de-ceramica-al-csn
GEO:39.4757;-0.377993
LOCATION:CSOA CSN - C/ Cadirers 2\, Ciutat Vella
STATUS:CONFIRMED
CATEGORIES:valencia,valència
END:VEVENT
BEGIN:VEVENT
UID:8785@eif.convoca.la
SUMMARY:Biblioteca de l'Ateneu Llibertari del Cabanyal
DTSTAMP:20260420T125236Z
DTSTART:20260422T160000Z
DTEND:20260422T180000Z
URL:https://eif.convoca.la/event/biblioteca-de-lateneu-llibertari-del-caban
	yal-2
GEO:39.4658;-0.329767
LOCATION:Ateneu Llibertari del Cabanyal - C/ Barraca 57\, baix esquerra
STATUS:CONFIRMED
CATEGORIES:valencia,valència
END:VEVENT
BEGIN:VEVENT
UID:8784@eif.convoca.la
SUMMARY:Cayo tierno - cuerpo y movimiento!
DTSTAMP:20260420T125236Z
DTSTART:20260422T163000Z
DTEND:20260422T183000Z
URL:https://eif.convoca.la/event/cayo-tierno-cuerpo-y-movimiento-1
GEO:39.4757;-0.377993
LOCATION:CSOA CSN - C/ Cadirers 2\, Ciutat Vella
STATUS:CONFIRMED
CATEGORIES:valencia,valència
END:VEVENT
BEGIN:VEVENT
UID:8652@eif.convoca.la
SUMMARY:Cine ex en La Dàhlia
DTSTAMP:20260420T125236Z
DTSTART:20260422T170000Z
DTEND:20260422T190000Z
URL:https://eif.convoca.la/event/cine-ex-en-la-dahlia
GEO:39.4725;-0.410465
LOCATION:Iniciativa Dahlia - Carrer camí vell de Xirivella\, 23\, 46014\, V
	alència
STATUS:CONFIRMED
CATEGORIES:Iniciativa Dahlia,XXIV Mostra del Llibre Anarquista,art,cinema,m
	islata,valencia,valència
END:VEVENT
BEGIN:VEVENT
UID:8607@eif.convoca.la
SUMMARY:Propuesta de actividades curso 2025-26
DTSTAMP:20260420T125236Z
DTSTART:20260422T220000Z
DTEND:20260422T220000Z
URL:https://eif.convoca.la/event/propuesta-de-actividades-curso-2025-26-1
GEO:39.4725;-0.410465
LOCATION:Iniciativa Dahlia - Carrer camí vell de Xirivella\, 23\, 46014\, V
	alència
STATUS:CONFIRMED
CATEGORIES:valencia,valència
END:VEVENT
BEGIN:VEVENT
UID:8801@eif.convoca.la
SUMMARY:Espacio de Atención y Consulta Psicológica
DTSTAMP:20260420T125236Z
DTSTART:20260423T080000Z
DTEND:20260423T095500Z
URL:https://eif.convoca.la/event/espacio-de-atencion-y-consulta-psicologica
	-2
GEO:39.4658;-0.329767
LOCATION:Ateneu Llibertari del Cabanyal - C/ Barraca 57\, baix esquerra
STATUS:CONFIRMED
CATEGORIES:valencia,valència
END:VEVENT
BEGIN:VEVENT
UID:8856@eif.convoca.la
SUMMARY:Dijous de Mostra a la Meme
DTSTAMP:20260420T125236Z
DTSTART:20260423T153000Z
DTEND:20260423T210000Z
URL:https://eif.convoca.la/event/dijous-de-mostra-a-la-meme
GEO:39.4902;-0.357929
LOCATION:Escola Meme - Calle Poeta Ricard Sanmartí\, 17
STATUS:CONFIRMED
CATEGORIES:XXIV Mostra del Llibre Anarquista,anticapitalisme,anticolonialis
	me,antiracisme,queer,transfeminismes,valencia,valència
END:VEVENT
BEGIN:VEVENT
UID:8878@eif.convoca.la
SUMMARY:Grupo de Lectura la TAG
DTSTAMP:20260420T125236Z
DTSTART:20260423T153000Z
DTEND:20260423T173000Z
URL:https://eif.convoca.la/event/grupo-de-lectura-la-tag
GEO:39.4757;-0.377993
LOCATION:CSOA CSN - C/ Cadirers 2\, Ciutat Vella
STATUS:CONFIRMED
CATEGORIES:anarquisme,ciutat vella,lectura,valencia,valència
END:VEVENT
BEGIN:VEVENT
UID:8812@eif.convoca.la
SUMMARY:🌈💝TALLER DE CERAMICA CREATIVA 💅🏻🌈
DTSTAMP:20260420T125236Z
DTSTART:20260423T170000Z
DTEND:20260423T191500Z
URL:https://eif.convoca.la/event/taller-de-ceramica-creativa
GEO:39.4902;-0.357929
LOCATION:Escola Meme - Calle Poeta Ricard Sanmartí\, 17
STATUS:CONFIRMED
CATEGORIES:valencia,valència
END:VEVENT
BEGIN:VEVENT
UID:8819@eif.convoca.la
SUMMARY:Biblioteca de l'Ateneu Llibertari del Cabanyal
DTSTAMP:20260420T125236Z
DTSTART:20260424T090000Z
DTEND:20260424T110000Z
URL:https://eif.convoca.la/event/biblioteca-de-lateneu-llibertari-del-caban
	yal
GEO:39.4658;-0.329767
LOCATION:Ateneu Llibertari del Cabanyal - C/ Barraca 57\, baix esquerra
STATUS:CONFIRMED
CATEGORIES:valencia,valència
END:VEVENT
BEGIN:VEVENT
UID:8489@eif.convoca.la
SUMMARY:Taller d'ajuda i presentació: Autodefensa digital
DTSTAMP:20260420T125236Z
DTSTART:20260424T150000Z
DTEND:20260424T180000Z
URL:https://eif.convoca.la/event/presentacio-taller-dajuda-autodefensa-digi
	tal
LOCATION:Las Naves - Av. Joan Verdeguer\, 16\, 46024\, València
STATUS:CONFIRMED
CATEGORIES:GNU/Linux València,install party,programari lliure,taller,valenc
	ia,valència,xerrada
END:VEVENT
BEGIN:VEVENT
UID:8811@eif.convoca.la
SUMMARY:Merkadillo gratis Armari Trans
DTSTAMP:20260420T125236Z
DTSTART:20260424T160000Z
DTEND:20260424T190000Z
URL:https://eif.convoca.la/event/merkadillo-gratis-armari-trans
GEO:39.4757;-0.377993
LOCATION:CSOA CSN - C/ Cadirers 2\, Ciutat Vella
STATUS:CONFIRMED
CATEGORIES:Mercadillo,Reinonis,ciutat vella,mercaet,no mixte,transfeminisme
	s,valencia,valència
END:VEVENT
BEGIN:VEVENT
UID:8824@eif.convoca.la
SUMMARY:Presentació del llibre 'Técnica y tecnología: cómo conversar con un
	 tecnófilo'
DTSTAMP:20260420T125236Z
DTSTART:20260424T160000Z
DTEND:20260424T180000Z
URL:https://eif.convoca.la/event/presentacio-del-llibre-tecnica-y-tecnologi
	a-como-conversar-con-un-tecnofilo
GEO:39.4775;-0.37802
LOCATION:La Mandrágora - C/Mare Vella\, 15 Bajo Izquierda\, 46020
STATUS:CONFIRMED
CATEGORIES:La Mandrágora,XXIV Mostra del Llibre Anarquista,anarquisme,ciuta
	t vella,llibres,presentació llibre,sobirania tecnològica,tecnologia,valenc
	ia,valència
END:VEVENT
BEGIN:VEVENT
UID:8844@eif.convoca.la
SUMMARY:Taller social Bicis Per A Totes
DTSTAMP:20260420T125236Z
DTSTART:20260424T163000Z
DTEND:20260424T183000Z
URL:https://eif.convoca.la/event/taller-social-bicis-per-a-totes-1
LOCATION:Taller Bicis Per A Totes - Carrer Xenillet\, 3. 46900 Torrent
STATUS:CONFIRMED
CATEGORIES:valencia,valència
END:VEVENT
BEGIN:VEVENT
UID:8866@eif.convoca.la
SUMMARY:Kafeta Història de lluita per l'alliberament de Kurdistan
DTSTAMP:20260420T125236Z
DTSTART:20260424T163000Z
DTEND:20260424T200000Z
URL:https://eif.convoca.la/event/kafeta-historia-de-lluita-per-lalliberamen
	t-de-kurdistan
GEO:39.487;-0.3537
LOCATION:CSOA L'Horta - al final del Carrer de Diógenes Lopez Mecho junt a 
	la Plaça Tretze Roses
STATUS:CONFIRMED
CATEGORIES:valencia,valència
END:VEVENT
BEGIN:VEVENT
UID:8362@eif.convoca.la
SUMMARY:Exposició: Caravana a fronteres de la UE. Relat de les polítiques m
	igratories europees
DTSTAMP:20260420T125236Z
DTSTART:20260424T183000Z
DTEND:20260426T190000Z
URL:https://eif.convoca.la/event/exposicio-caravana-a-fronteres-de-la-ue-re
	lat-de-les-politiques-migratories-europees
GEO:39.4795;-0.377278
LOCATION:Casal Falles Populars i Combatives - Carrer de Garcilaso\, 11\, 46
	003\, València
STATUS:CONFIRMED
CATEGORIES:XXIV Mostra del Llibre Anarquista,antirracisme,ciutat vella,expo
	sició,valencia,valència
END:VEVENT
BEGIN:VEVENT
UID:8865@eif.convoca.la
SUMMARY:Traca final de la Mostra
DTSTAMP:20260420T125236Z
DTSTART:20260425T080000Z
DTEND:20260426T190000Z
URL:https://eif.convoca.la/event/traca-final-de-la-mostra
GEO:39.4791;-0.37837
LOCATION:Plaça del Carme - Plaça del Carme
STATUS:CONFIRMED
CATEGORIES:XXIV Mostra del Llibre Anarquista,llibres,valencia,valència
END:VEVENT
BEGIN:VEVENT
UID:8503@eif.convoca.la
SUMMARY:Taller de Godot (i molt més!) en Retròpolis 2026: Crea\, juga i lli
	bera el teu hardware!
DTSTAMP:20260420T125236Z
DTSTART:20260425T083000Z
DTEND:20260425T170000Z
URL:https://eif.convoca.la/event/taller-de-godot-i-molt-mes-en-retropolis-2
	026-crea-juga-i-llibera-el-teu-hardware
GEO:39.4827;-0.346697
LOCATION:Escola Tècnica Superior d'Enginyeria Informàtica (ETSINF\, UPV) - 
	Camí de Vera\, 46022\, València
STATUS:CONFIRMED
CATEGORIES:GNU/Linux València,godot,programari lliure,taller,valencia,valèn
	cia
END:VEVENT
BEGIN:VEVENT
UID:8786@eif.convoca.la
SUMMARY:Concert - Genderlexx + Inkuirsición
DTSTAMP:20260420T125236Z
DTSTART:20260425T190000Z
DTEND:20260425T215500Z
URL:https://eif.convoca.la/event/concert-genderlexx-inkuirsicion
GEO:39.4757;-0.377993
LOCATION:CSOA CSN - C/ Cadirers 2\, Ciutat Vella
STATUS:CONFIRMED
CATEGORIES:XXIV Mostra del Llibre Anarquista,ciutat vella,concert,queer,tra
	nsfeminismes,valencia,valència
END:VEVENT
BEGIN:VEVENT
UID:8753@eif.convoca.la
SUMMARY:Taller de Reparació
DTSTAMP:20260420T125236Z
DTSTART:20260426T150000Z
DTEND:20260426T190000Z
URL:https://eif.convoca.la/event/taller-de-reparacio
GEO:39.4757;-0.377993
LOCATION:CSOA CSN - C/ Cadirers 2\, Ciutat Vella
STATUS:CONFIRMED
CATEGORIES:CSN,reparació,right to repair,taller,valencia,valència
END:VEVENT
BEGIN:VEVENT
UID:8881@eif.convoca.la
SUMMARY:Espacio de Atención y Consulta Psicológica
DTSTAMP:20260420T125236Z
DTSTART:20260427T080000Z
DTEND:20260427T095500Z
URL:https://eif.convoca.la/event/espacio-de-atencion-y-consulta-psicologica
GEO:39.4658;-0.329767
LOCATION:Ateneu Llibertari del Cabanyal - C/ Barraca 57\, baix esquerra
STATUS:CONFIRMED
CATEGORIES:valencia,valència
END:VEVENT
BEGIN:VEVENT
UID:8548@eif.convoca.la
SUMMARY:Kafeta Fanzines Ravaleres
DTSTAMP:20260420T125236Z
DTSTART:20260430T160000Z
DTEND:20260430T210000Z
URL:https://eif.convoca.la/event/kafeta-fanzines-ravaleres
GEO:39.487;-0.3537
LOCATION:CSOA L'Horta - al final del Carrer de Diógenes Lopez Mecho junt a 
	la Plaça Tretze Roses
STATUS:CONFIRMED
CATEGORIES:benimaclet,concert,fanzines,pro preses,valencia,valència
END:VEVENT
BEGIN:VEVENT
UID:8623@eif.convoca.la
SUMMARY:ARA ENTRE LLIBRES
DTSTAMP:20260420T125236Z
DTSTART:20260430T170000Z
DTEND:20260430T183000Z
URL:https://eif.convoca.la/event/ara-entre-llibres
LOCATION:La Protectora - C/ de Maximilià Thous\, 6. La Saïdia. València.
STATUS:CONFIRMED
CATEGORIES:LGTBIQA+,llibres,no monogàmies,valencia,valència
END:VEVENT
BEGIN:VEVENT
UID:8471@eif.convoca.la
SUMMARY:JUGAR CONTRA EL SISTEMA
DTSTAMP:20260420T125236Z
DTSTART:20260502T150000Z
DTEND:20260502T183000Z
URL:https://eif.convoca.la/event/jugar-contra-el-sistema
GEO:39.4757;-0.377993
LOCATION:CSOA CSN - C/ Cadirers 2\, Ciutat Vella
STATUS:CONFIRMED
CATEGORIES:valencia,valència
END:VEVENT
BEGIN:VEVENT
UID:8885@eif.convoca.la
SUMMARY:Support and participate in the defense of the Community of Squatted
	 Prosfygika in Athens and the self-organized restoration of the neighborho
	od
DTSTAMP:20260420T125236Z
DTSTART:20260506T220000Z
DTEND:20260507T215500Z
URL:https://eif.convoca.la/event/support-and-participate-in-the-defense-of-
	the-community-of-squatted-prosfygika-in-athens-and-the-self-organized-rest
	oration-of-the-neighborhood
LOCATION:online - https://saveprosfygika.gr/index.php/en/save-prosfygika/
STATUS:CONFIRMED
CATEGORIES:valencia,valència
END:VEVENT
BEGIN:VEVENT
UID:8701@eif.convoca.la
SUMMARY:V Fira Feminista
DTSTAMP:20260420T125236Z
DTSTART:20260509T100000Z
DTEND:20260509T200000Z
URL:https://eif.convoca.la/event/v-fira-feminista
LOCATION:Plaça de Manuel Granero - Plaça de Manuel Granero\, 46006\, Russaf
	a
STATUS:CONFIRMED
CATEGORIES:Fira Feminista,Russafa,feminismes,fira de llibres,llibres,transf
	eminismes,valencia,valència
END:VEVENT
BEGIN:VEVENT
UID:8476@eif.convoca.la
SUMMARY:Ja està ací el XIV aniversari del CSOA l’Horta!!!🎉🎉🎉
DTSTAMP:20260420T125236Z
DTSTART:20260515T143000Z
DTEND:20260516T230000Z
URL:https://eif.convoca.la/event/ja-esta-aci-el-xiv-aniversari-del-csoa-lho
	rta
GEO:39.487;-0.3537
LOCATION:CSOA L'Horta - al final del Carrer de Diógenes Lopez Mecho junt a 
	la Plaça Tretze Roses
STATUS:CONFIRMED
CATEGORIES:anniversari,benimaclet,valencia,valència
END:VEVENT
BEGIN:VEVENT
UID:8863@eif.convoca.la
SUMMARY:LibreLocal València 2026: col·lectius i simpatitzants del programar
	i lliure\, organitzem-nos!
DTSTAMP:20260420T125236Z
DTSTART:20260516T083000Z
DTEND:20260516T170000Z
URL:https://eif.convoca.la/event/librelocal-valencia-2026-collectius-i-simp
	atitzants-del-programari-lliure-organitzem-nos
GEO:39.4705;-0.39647
LOCATION:Casal Obrer i Popular de l'Olivereta - C/ Olímpia Arozena Torres\,
	 42\, baix esquerra
STATUS:CONFIRMED
CATEGORIES:GNU/Linux València,LibreLocal,LibreLocalValència,assemblea,debat
	,programari lliure,valencia,valència,xerrada
END:VEVENT
BEGIN:VEVENT
UID:8392@eif.convoca.la
SUMMARY:Tatu Circus València
DTSTAMP:20260420T125236Z
DTSTART:20260605T090000Z
DTEND:20260607T210000Z
URL:https://eif.convoca.la/event/tatu-circus-valencia
GEO:39.487;-0.3537
LOCATION:CSOA L'Horta - al final del Carrer de Diógenes Lopez Mecho junt a 
	la Plaça Tretze Roses
STATUS:CONFIRMED
CATEGORIES:Tatu Circus València,anticarcerari,benimaclet,tatuatge,valencia,
	valència
END:VEVENT
BEGIN:VEVENT
UID:8747@eif.convoca.la
SUMMARY:Aniversari csn
DTSTAMP:20260420T125236Z
DTSTART:20260620T100000Z
DTEND:20260620T220000Z
URL:https://eif.convoca.la/event/aniversari-csn
GEO:39.4757;-0.377993
LOCATION:CSOA CSN - C/ Cadirers 2\, Ciutat Vella
STATUS:CONFIRMED
CATEGORIES:valencia,valència
END:VEVENT
BEGIN:VEVENT
UID:7669@eif.convoca.la
SUMMARY:12-O Tanquem les xarxes colonials
DTSTAMP:20260420T125236Z
DTSTART:20261011T220000Z
DTEND:20261011T220000Z
URL:https://eif.convoca.la/event/12-o-tanquem-les-xarxes-colonials
LOCATION:online - https:// per tot arreu
STATUS:CONFIRMED
CATEGORIES:XXIV Mostra del Llibre Anarquista,anticapitalisme,anticolonialis
	me,autogestió,descentralització,emancipació digital,fedivers,privacitat di
	gital,programari lliure,valencia,valència
END:VEVENT
END:VCALENDAR
